BEGIN:VCALENDAR
VERSION:2.0
PRODID:-//Henry L. Ferguson Museum - ECPv6.15.17.1//NONSGML v1.0//EN
CALSCALE:GREGORIAN
METHOD:PUBLISH
X-ORIGINAL-URL:https://fergusonmuseum.org
X-WR-CALDESC:Events for Henry L. Ferguson Museum
REFRESH-INTERVAL;VALUE=DURATION:PT1H
X-Robots-Tag:noindex
X-PUBLISHED-TTL:PT1H
BEGIN:VTIMEZONE
TZID:America/New_York
BEGIN:DAYLIGHT
TZOFFSETFROM:-0500
TZOFFSETTO:-0400
TZNAME:EDT
DTSTART:20250309T070000
END:DAYLIGHT
BEGIN:STANDARD
TZOFFSETFROM:-0400
TZOFFSETTO:-0500
TZNAME:EST
DTSTART:20251102T060000
END:STANDARD
BEGIN:DAYLIGHT
TZOFFSETFROM:-0500
TZOFFSETTO:-0400
TZNAME:EDT
DTSTART:20260308T070000
END:DAYLIGHT
BEGIN:STANDARD
TZOFFSETFROM:-0400
TZOFFSETTO:-0500
TZNAME:EST
DTSTART:20261101T060000
END:STANDARD
BEGIN:DAYLIGHT
TZOFFSETFROM:-0500
TZOFFSETTO:-0400
TZNAME:EDT
DTSTART:20270314T070000
END:DAYLIGHT
BEGIN:STANDARD
TZOFFSETFROM:-0400
TZOFFSETTO:-0500
TZNAME:EST
DTSTART:20271107T060000
END:STANDARD
END:VTIMEZONE
BEGIN:VEVENT
DTSTART;TZID=America/New_York:20260802T160000
DTEND;TZID=America/New_York:20260802T170000
DTSTAMP:20260422T172739
CREATED:20260316T133050Z
LAST-MODIFIED:20260316T133050Z
UID:38152-1785686400-1785690000@fergusonmuseum.org
SUMMARY:Shorebirds of the Northeast: Success Stories and Species on the Precipice
DESCRIPTION:Join us for an illustrated talk by Wildlife Biologist\, Maureen Durkin\, who will provide an introduction to shorebirds and their ecology – and explore what makes them unique and vulnerable in a changing world. This presentation will highlight some of the species that can be seen on our local beaches\, including both resident breeding species and Arctic-nesting migrants\, with a special focus on American oystercatchers and red knots.\nWhen: Sunday\, August 2\, 2026\nTime: 4-5 pm\nPlace: At the Museum\, 2nd floor and virtual\, via zoom\nReception to follow \nFor those of us who spend time on beaches\, marshes\, and coastlines of the northeast\, shorebirds are a familiar sight\, from tiny sandpipers to boisterous oystercatchers. However\, shorebirds are among the groups of birds undergoing the steepest declines\, as they face a myriad of threats in their breeding\, migration\, and wintering grounds. \nMaureen Durkin with juvenile oystercatcher \nMaureen Durkin is a Rhode Island-based Wildlife Biologist specializing in coastal birds and management of threatened and endangered species. She received her undergraduate degree from Connecticut College\, where she had some of her formative academic experiences in ecology in and around Long Island Sound. Maureen became fascinated by shorebirds while working field technician jobs around the Gulf of Mexico after college. She went on to receive her M.S. from SUNY College of Environmental Science and Forestry in Syracuse\, NY\, conducting her research on the impacts of recreational disturbance to snowy plovers in the Florida Panhandle. She continued working in Florida for several more years through SUNY-ESF\, partnering with the National Park Service to conduct research to understand mortality risks and inform management of nesting shorebirds and terns. Maureen returned to New England in 2019\, as a Wildlife Biologist with the U.S. Fish and Wildlife Service in Rhode Island. She oversees the monitoring and management of piping plovers\, least terns\, and American oystercatchers across southern Rhode Island\, and works on a variety of projects related to coastal wildlife management. She also serves as the Piping Plover Recovery Lead for USFWS. \n\n\n		\n		\n			\n				\n			\n				\n				American oystercatcher with chick\, USFWS\n				\n			\n				\n			\n				\n				Red knots along Delaware Bay near Prime Hook National Wildlife Refuge\, Gregory Breese\, USFWS
URL:https://fergusonmuseum.org/event/shorebirds-of-the-northeast-success-stories-and-species-on-the-precipice/
CATEGORIES:Illustrated Lecture
ATTACH;FMTTYPE=image/jpeg:https://fergusonmuseum.org/wp-content/uploads/2026/03/american-oystercatcher-usfws.jpg
END:VEVENT
END:VCALENDAR