BEGIN:VCALENDAR
VERSION:2.0
PRODID:-//Henry L. Ferguson Museum - ECPv6.15.17.1//NONSGML v1.0//EN
CALSCALE:GREGORIAN
METHOD:PUBLISH
X-WR-CALNAME:Henry L. Ferguson Museum
X-ORIGINAL-URL:https://fergusonmuseum.org
X-WR-CALDESC:Events for Henry L. Ferguson Museum
REFRESH-INTERVAL;VALUE=DURATION:PT1H
X-Robots-Tag:noindex
X-PUBLISHED-TTL:PT1H
BEGIN:VTIMEZONE
TZID:America/New_York
BEGIN:DAYLIGHT
TZOFFSETFROM:-0500
TZOFFSETTO:-0400
TZNAME:EDT
DTSTART:20190310T070000
END:DAYLIGHT
BEGIN:STANDARD
TZOFFSETFROM:-0400
TZOFFSETTO:-0500
TZNAME:EST
DTSTART:20191103T060000
END:STANDARD
BEGIN:DAYLIGHT
TZOFFSETFROM:-0500
TZOFFSETTO:-0400
TZNAME:EDT
DTSTART:20200308T070000
END:DAYLIGHT
BEGIN:STANDARD
TZOFFSETFROM:-0400
TZOFFSETTO:-0500
TZNAME:EST
DTSTART:20201101T060000
END:STANDARD
BEGIN:DAYLIGHT
TZOFFSETFROM:-0500
TZOFFSETTO:-0400
TZNAME:EDT
DTSTART:20210314T070000
END:DAYLIGHT
BEGIN:STANDARD
TZOFFSETFROM:-0400
TZOFFSETTO:-0500
TZNAME:EST
DTSTART:20211107T060000
END:STANDARD
END:VTIMEZONE
BEGIN:VEVENT
DTSTART;TZID=America/New_York:20200809T160000
DTEND;TZID=America/New_York:20200809T170000
DTSTAMP:20260425T000607
CREATED:20200512T180726Z
LAST-MODIFIED:20200729T163249Z
UID:17303-1596988800-1596992400@fergusonmuseum.org
SUMMARY:An Introduction to Backyard Butterflies
DESCRIPTION:Illustrated Lecture by Kim Hargrave\, Education Director Denison Pequotsepos Nature Center. \nHave you ever wondered what butterflies were visiting your backyard? Join us for this online class for an introduction to our backyard butterflies.\nWe will discuss how to attract butterflies to your yard\, their important role as pollinators and learn more about their incredible life cycles. This talk is designed for adults\, but suitable for interested older children and teens. \nSunday\, August 9\, 2020. Time: 4 p.m. Virtual talk\, advance registration required. After registering\, you will receive a confirmation email containing information about joining the webinar. \n\nRegister Today!
URL:https://fergusonmuseum.org/event/an-introduction-to-backyard-butterflies/
CATEGORIES:Illustrated Lecture
ATTACH;FMTTYPE=image/jpeg:https://fergusonmuseum.org/wp-content/uploads/2020/05/butterflies-dpnc.jpg
END:VEVENT
END:VCALENDAR