BEGIN:VCALENDAR
VERSION:2.0
PRODID:-//Henry L. Ferguson Museum - ECPv6.15.17.1//NONSGML v1.0//EN
CALSCALE:GREGORIAN
METHOD:PUBLISH
X-WR-CALNAME:Henry L. Ferguson Museum
X-ORIGINAL-URL:https://fergusonmuseum.org
X-WR-CALDESC:Events for Henry L. Ferguson Museum
REFRESH-INTERVAL;VALUE=DURATION:PT1H
X-Robots-Tag:noindex
X-PUBLISHED-TTL:PT1H
BEGIN:VTIMEZONE
TZID:America/New_York
BEGIN:DAYLIGHT
TZOFFSETFROM:-0500
TZOFFSETTO:-0400
TZNAME:EDT
DTSTART:20250309T070000
END:DAYLIGHT
BEGIN:STANDARD
TZOFFSETFROM:-0400
TZOFFSETTO:-0500
TZNAME:EST
DTSTART:20251102T060000
END:STANDARD
BEGIN:DAYLIGHT
TZOFFSETFROM:-0500
TZOFFSETTO:-0400
TZNAME:EDT
DTSTART:20260308T070000
END:DAYLIGHT
BEGIN:STANDARD
TZOFFSETFROM:-0400
TZOFFSETTO:-0500
TZNAME:EST
DTSTART:20261101T060000
END:STANDARD
BEGIN:DAYLIGHT
TZOFFSETFROM:-0500
TZOFFSETTO:-0400
TZNAME:EDT
DTSTART:20270314T070000
END:DAYLIGHT
BEGIN:STANDARD
TZOFFSETFROM:-0400
TZOFFSETTO:-0500
TZNAME:EST
DTSTART:20271107T060000
END:STANDARD
END:VTIMEZONE
BEGIN:VEVENT
DTSTART;TZID=America/New_York:20260816T160000
DTEND;TZID=America/New_York:20260816T170000
DTSTAMP:20260420T073018
CREATED:20260331T133647Z
LAST-MODIFIED:20260331T133647Z
UID:38379-1786896000-1786899600@fergusonmuseum.org
SUMMARY:From Glaciers to Gardens: How Earthworms Shaped Northeastern Forest Soils
DESCRIPTION:Join us at the Museum for an illustrated talk by Annise Dobson\, Associate Research Scientist at Yale University\, who will share how the history of earthworms in North America has been shaped by ancient glaciation\, centuries of human-mediated introductions and spread\, and multiple waves of biological invasion.\nThis talk traces that history from the post-glacial forest assembly absent of earthworms and spread of European earthworms through agriculture\, logging\, road building\, horticulture\, and fishing bait. We then examine contemporary invasion of jumping worms\, and how different earthworm groups reshape habitats by accelerating leaf-litter breakdown\, altering soil structure and nutrient cycling\, and changing conditions for seeds\, seedlings\, and fungal communities. Finally\, we consider how earthworm impacts interact with other stressors such as invasive plants\, overabundant deer\, and climate-driven shifts in temperature and moisture\, and we outline practical steps for reducing spread and supporting conservation and management goals. \nWHEN: Sunday\, August 16\, 2026\nTIME: 4-5 p.m.\nPLACE: In person at the Museum and virtual via zoom \nAnnise Dobson is the Director of Research Programs\, Associate Research Scientist\, and Lecturer in the Department of Ecology & Evolutionary Biology and the School of the Environment at Yale University. She grew up on a farm in the Ottawa Valley in Ontario\, Canada\, and completed her PhD at Cornell University. Her research focuses on plant-soil interactions and the ecosystem-level impacts of invasive species. Her work investigates the cascading effects of jumping worms on forest health\, from the soil food web\, up to the seedling layer\, and beyond. Dr. Dobson is passionate about translating scientific discovery into practical land management guidance and is actively involved in outreach to help land managers and the public understand and respond to this pressing ecological threat. \nPHOTO CREDITS: Grant Dobson
URL:https://fergusonmuseum.org/event/from-glaciers-to-gardens-how-earthworms-shaped-northeastern-forest-soils/
CATEGORIES:Illustrated Lecture
ATTACH;FMTTYPE=image/jpeg:https://fergusonmuseum.org/wp-content/uploads/2026/03/earthworm_1455_Grant-Dobson.jpg
END:VEVENT
END:VCALENDAR