BEGIN:VCALENDAR
VERSION:2.0
PRODID:-//Henry L. Ferguson Museum - ECPv6.15.17.1//NONSGML v1.0//EN
CALSCALE:GREGORIAN
METHOD:PUBLISH
X-ORIGINAL-URL:https://fergusonmuseum.org
X-WR-CALDESC:Events for Henry L. Ferguson Museum
REFRESH-INTERVAL;VALUE=DURATION:PT1H
X-Robots-Tag:noindex
X-PUBLISHED-TTL:PT1H
BEGIN:VTIMEZONE
TZID:America/New_York
BEGIN:DAYLIGHT
TZOFFSETFROM:-0500
TZOFFSETTO:-0400
TZNAME:EDT
DTSTART:20210314T070000
END:DAYLIGHT
BEGIN:STANDARD
TZOFFSETFROM:-0400
TZOFFSETTO:-0500
TZNAME:EST
DTSTART:20211107T060000
END:STANDARD
BEGIN:DAYLIGHT
TZOFFSETFROM:-0500
TZOFFSETTO:-0400
TZNAME:EDT
DTSTART:20220313T070000
END:DAYLIGHT
BEGIN:STANDARD
TZOFFSETFROM:-0400
TZOFFSETTO:-0500
TZNAME:EST
DTSTART:20221106T060000
END:STANDARD
BEGIN:DAYLIGHT
TZOFFSETFROM:-0500
TZOFFSETTO:-0400
TZNAME:EDT
DTSTART:20230312T070000
END:DAYLIGHT
BEGIN:STANDARD
TZOFFSETFROM:-0400
TZOFFSETTO:-0500
TZNAME:EST
DTSTART:20231105T060000
END:STANDARD
END:VTIMEZONE
BEGIN:VEVENT
DTSTART;TZID=America/New_York:20220807T160000
DTEND;TZID=America/New_York:20220807T170000
DTSTAMP:20260423T101918
CREATED:20220303T145013Z
LAST-MODIFIED:20220801T132544Z
UID:25005-1659888000-1659891600@fergusonmuseum.org
SUMMARY:The Napatree Point Conservation Area: Past\, Present & Future
DESCRIPTION:Illustrated talk by Peter V. August and Grant G. Simmons III\, The Watch Hill Conservancy\nTime: Sunday\, August 7\, 2022 @ 4:00 – 5:00 P.M.\nPlace: In-Person at the Museum\, 2nd Floor\nDUE TO LIMITED SEATING\, IF YOU ARE PLANNING TO ATTEND “IN-PERSON” PLEASE RESERVE YOUR SEAT FOR THIS PROGRAM BY CALLING (631) 788-7239 OR EMAILING THE MUSEUM.  \nThe transformation of Napatree Point post-Hurricane of ’38 from barren sand to one of the richest biodiversity hotspots in southern New England is a dramatic story of ecosystem resilience. Care of Napatree Point took a fortunate turn in the 1990s when two unlikely partners\, Chaplin B. Barnes and Grant G. Simmons III\, recognized its unique ecological value and importance as a public resource and helped establish the Napatree Point Conservation Area. \nStewardship of the 86-acre preserve is an ever-changing challenge. The barrier spit is heavily used in the summertime by beach goers and boaters anchored off its northern (bayside) shore. Keeping Napatree from “being loved to death” is no small challenge\, as is protecting its many rare and endangered habitats and species. The future of the Conservation Area is presenting brand new stewardship challenges on Napatree – climate change induced nuisance tides\, sea level rise\, dune migration in heavy storms\, and others. We will review the scientific monitoring we are doing at present to guide our future stewardship and management programs. Our mission is to keep Napatree the pristine barrier spit that it is and ensure that the public has safe and reliable access to this special place. \nFOR VIRTUAL ACCESS\, NO ADVANCE REGISTRATION IS REQUIRED. \nPlease click the link below to join the webinar: \nJoin webinar\nWebinar ID: 842 7385 6103\nInternational numbers available: https://us02web.zoom.us/u/kccta2rImC \n\n		\n		\n			\n				\n			\n				\n				Napatree Point Conservation Area signs\, October 24\, 2018. Photo credit: The Watch Hill Conservancy\n				\n			\n				\n			\n				\n				Looking west over Napatree Point Conservation Area toward Fishers Island. Photo credit: The Watch Hill Conservancy\n				\n			\n				\n			\n				\n				Peregrine falcon with prey on Napatree Point headlands\, November 7\, 2017. Photo credit: The Watch Hill Conservancy\n				\n		\n\nPeter August. Photo credit: Noelle Wolcin \nDr. Peter August is Professor Emeritus in the Department of Natural Resources Science at the University of Rhode Island. He has chaired the Napatree Science Advisors for 12 years and is President of The Watch Hill Conservancy. \nGrant Simmons. Photo credit: The Watch Hill Conservancy \nMr. Grant Simmons has been instrumental in the establishment of Napatree as a public resource where data-driven science directs stewardship and management activities. Mr. Simmons has coordinated weekly water-quality monitoring off the bayside and ocean-side shores of Napatree for the past 15 years. He is Vice President of The Watch Hill Conservancy.
URL:https://fergusonmuseum.org/event/the-napatree-point-conservation-area-past-present-future/
LOCATION:Henry L. Ferguson Museum\, 1109 Equestrian Ave\, Fishers Island\, NY\, 06390\, United States
CATEGORIES:Illustrated Lecture
ATTACH;FMTTYPE=image/jpeg:https://fergusonmuseum.org/wp-content/uploads/2022/03/NapatreePointConservationArea.jpg
END:VEVENT
END:VCALENDAR