BEGIN:VCALENDAR
VERSION:2.0
PRODID:-//Henry L. Ferguson Museum - ECPv6.15.17.1//NONSGML v1.0//EN
CALSCALE:GREGORIAN
METHOD:PUBLISH
X-ORIGINAL-URL:https://fergusonmuseum.org
X-WR-CALDESC:Events for Henry L. Ferguson Museum
REFRESH-INTERVAL;VALUE=DURATION:PT1H
X-Robots-Tag:noindex
X-PUBLISHED-TTL:PT1H
BEGIN:VTIMEZONE
TZID:America/New_York
BEGIN:DAYLIGHT
TZOFFSETFROM:-0500
TZOFFSETTO:-0400
TZNAME:EDT
DTSTART:20210314T070000
END:DAYLIGHT
BEGIN:STANDARD
TZOFFSETFROM:-0400
TZOFFSETTO:-0500
TZNAME:EST
DTSTART:20211107T060000
END:STANDARD
BEGIN:DAYLIGHT
TZOFFSETFROM:-0500
TZOFFSETTO:-0400
TZNAME:EDT
DTSTART:20220313T070000
END:DAYLIGHT
BEGIN:STANDARD
TZOFFSETFROM:-0400
TZOFFSETTO:-0500
TZNAME:EST
DTSTART:20221106T060000
END:STANDARD
BEGIN:DAYLIGHT
TZOFFSETFROM:-0500
TZOFFSETTO:-0400
TZNAME:EDT
DTSTART:20230312T070000
END:DAYLIGHT
BEGIN:STANDARD
TZOFFSETFROM:-0400
TZOFFSETTO:-0500
TZNAME:EST
DTSTART:20231105T060000
END:STANDARD
END:VTIMEZONE
BEGIN:VEVENT
DTSTART;TZID=America/New_York:20220116T160000
DTEND;TZID=America/New_York:20220116T170000
DTSTAMP:20260419T215755
CREATED:20220110T194339Z
LAST-MODIFIED:20220111T132028Z
UID:24527-1642348800-1642352400@fergusonmuseum.org
SUMMARY:The Bethlehem\, PA – Fishers Island Connection
DESCRIPTION:Sunday\, January 16th\, Museum Director Pierce Rafferty will host a rebroadcast of ‘The Bethlehem\, PA – Fishers Island Connection\,” a video that chronicles the remarkable story of Fishers Island’s once strong but now all-but-forgotten connections to Bethlehem\, Pennsylvania. \nThis in-depth exploration of a rich vein of Fishers Island history focuses on the Bartlett family (owners of the Bartlett Cottages)\, the Hoppes family (owners of the Mononotto Inn)\, and the Linderman brothers (two industrialists who built the “Garp” house and today’s Baccile house). Featured are historical subplots with dramatic twists\, turns and sudden reversals worthy of the period melodramas of the early 1900s. \nThis video\, co-directed by HLFM Director Pierce Rafferty and Marisela La Grave\, chronicles the story of Fishers Island’s once strong but now all-but-forgotten connections to Bethlehem\, PA. It was first shown in 2020. Pierce will answer questions after the presentation. \nENCORE VIRTUAL SCREENING\nDate: Sunday\, January 16\, 2022\nTime: 4:00 p.m. – 5:00 p.m.\nNo Advance Registration Required. \nPlease click the link below to join the webinar:\nJoin Webinar\nOr One tap mobile:\nUS: +16699009128\,\,85949283418#  or +12532158782\,\,85949283418# \nOr Telephone (for higher quality\, dial a number based on your current location):\nUS: +1 669 900 9128  or +1 253 215 8782  or +1 346 248 7799  or +1 646 558 8656  or +1 301 715 8592  or +1 312 626 6799 \nWebinar ID:\n859 4928 3418 \nInternational numbers available:\nhttps://us02web.zoom.us/u/kbu5mIVFl4 \n\n		\n		\n			\n				\n			\n				\n				The Bartlett Cottages\, circa 1890’s\n				\n			\n				\n			\n			\n				\n			\n				\n				Mononotto Inn\, Fishers Island\, NY\, operated from 1893-1939. This hotel was built for and run by the Hoppes family of Bethlehem\, PA. until the early 1920s. It was unceremoniously razed in 1939.\n				\n			\n				\n			\n			\n				\n			\n				\n				The Garrett B. Linderman house\, Fishers Island\, NY\, photograph dated 1902. Mr. G.B. Linderman was a prominent businessman of the Lehigh Valley section of PA. A series of business miscalculations and serious errors in judgment triggered a precipitous decline in his fortunes.\n				\n			\n				\n			\n				\n				Robert P. Linderman house overlooking Hay Harbor\, Fishers Island\, NY\, completed circa 1900. At the time this house was built\, Mr. R.P. Linderman of South Bethlehem\, PA. was president of the Bethlehem Steel Corporation. Although only 36 at the time this house was completed\, a tragedy ended his life before he reached 40.
URL:https://fergusonmuseum.org/event/the-bethlehem-pa-fishers-island-connection/
LOCATION:Zoom
CATEGORIES:Virtual Presentation
ATTACH;FMTTYPE=image/jpeg:https://fergusonmuseum.org/wp-content/uploads/2022/01/Bethlehem-Connection.jpg
END:VEVENT
END:VCALENDAR