BEGIN:VCALENDAR
VERSION:2.0
PRODID:-//Henry L. Ferguson Museum - ECPv6.15.17.1//NONSGML v1.0//EN
CALSCALE:GREGORIAN
METHOD:PUBLISH
X-WR-CALNAME:Henry L. Ferguson Museum
X-ORIGINAL-URL:https://fergusonmuseum.org
X-WR-CALDESC:Events for Henry L. Ferguson Museum
REFRESH-INTERVAL;VALUE=DURATION:PT1H
X-Robots-Tag:noindex
X-PUBLISHED-TTL:PT1H
BEGIN:VTIMEZONE
TZID:America/New_York
BEGIN:DAYLIGHT
TZOFFSETFROM:-0500
TZOFFSETTO:-0400
TZNAME:EDT
DTSTART:20240310T070000
END:DAYLIGHT
BEGIN:STANDARD
TZOFFSETFROM:-0400
TZOFFSETTO:-0500
TZNAME:EST
DTSTART:20241103T060000
END:STANDARD
BEGIN:DAYLIGHT
TZOFFSETFROM:-0500
TZOFFSETTO:-0400
TZNAME:EDT
DTSTART:20250309T070000
END:DAYLIGHT
BEGIN:STANDARD
TZOFFSETFROM:-0400
TZOFFSETTO:-0500
TZNAME:EST
DTSTART:20251102T060000
END:STANDARD
BEGIN:DAYLIGHT
TZOFFSETFROM:-0500
TZOFFSETTO:-0400
TZNAME:EDT
DTSTART:20260308T070000
END:DAYLIGHT
BEGIN:STANDARD
TZOFFSETFROM:-0400
TZOFFSETTO:-0500
TZNAME:EST
DTSTART:20261101T060000
END:STANDARD
END:VTIMEZONE
BEGIN:VEVENT
DTSTART;TZID=America/New_York:20250713T080000
DTEND;TZID=America/New_York:20250717T120000
DTSTAMP:20260420T235656
CREATED:20250704T033339Z
LAST-MODIFIED:20250709T122327Z
UID:35356-1752393600-1752753600@fergusonmuseum.org
SUMMARY:FI Treasure Hunt: 7-10 Year Olds
DESCRIPTION:Arrr\, the wind’s pickin’ up and the tide be right—our Pirate Treasure Hunt sets sail soon! Sharpen yer wits and ready yer boots. Clues\, riddles\, and cursed gold await… \n\nTeam Registration & More Info
URL:https://fergusonmuseum.org/event/fi-treasure-hunt-7-10-year-olds/
CATEGORIES:Family Program,Treasure Hunt
ATTACH;FMTTYPE=image/jpeg:https://fergusonmuseum.org/wp-content/uploads/2025/07/FITH_7-10-YO.jpg
END:VEVENT
BEGIN:VEVENT
DTSTART;TZID=America/New_York:20250713T080000
DTEND;TZID=America/New_York:20250717T120000
DTSTAMP:20260420T235656
CREATED:20250704T033537Z
LAST-MODIFIED:20250709T120732Z
UID:35359-1752393600-1752753600@fergusonmuseum.org
SUMMARY:FI Treasure Hunt: 11-14 Year Olds
DESCRIPTION:Arrr\, the wind’s pickin’ up and the tide be right—our Pirate Treasure Hunt sets sail soon! Sharpen yer wits and ready yer boots. Clues\, riddles\, and cursed gold await…\n \nTeam Registration & More Info
URL:https://fergusonmuseum.org/event/fi-treasure-hunt-11-14-year-olds/
CATEGORIES:Family Program,Treasure Hunt
ATTACH;FMTTYPE=image/jpeg:https://fergusonmuseum.org/wp-content/uploads/2025/07/FITH_11-14-YO.jpg
END:VEVENT
END:VCALENDAR