BEGIN:VCALENDAR
VERSION:2.0
PRODID:-//Henry L. Ferguson Museum - ECPv6.15.17.1//NONSGML v1.0//EN
CALSCALE:GREGORIAN
METHOD:PUBLISH
X-WR-CALNAME:Henry L. Ferguson Museum
X-ORIGINAL-URL:https://fergusonmuseum.org
X-WR-CALDESC:Events for Henry L. Ferguson Museum
REFRESH-INTERVAL;VALUE=DURATION:PT1H
X-Robots-Tag:noindex
X-PUBLISHED-TTL:PT1H
BEGIN:VTIMEZONE
TZID:America/New_York
BEGIN:DAYLIGHT
TZOFFSETFROM:-0500
TZOFFSETTO:-0400
TZNAME:EDT
DTSTART:20240310T070000
END:DAYLIGHT
BEGIN:STANDARD
TZOFFSETFROM:-0400
TZOFFSETTO:-0500
TZNAME:EST
DTSTART:20241103T060000
END:STANDARD
BEGIN:DAYLIGHT
TZOFFSETFROM:-0500
TZOFFSETTO:-0400
TZNAME:EDT
DTSTART:20250309T070000
END:DAYLIGHT
BEGIN:STANDARD
TZOFFSETFROM:-0400
TZOFFSETTO:-0500
TZNAME:EST
DTSTART:20251102T060000
END:STANDARD
BEGIN:DAYLIGHT
TZOFFSETFROM:-0500
TZOFFSETTO:-0400
TZNAME:EDT
DTSTART:20260308T070000
END:DAYLIGHT
BEGIN:STANDARD
TZOFFSETFROM:-0400
TZOFFSETTO:-0500
TZNAME:EST
DTSTART:20261101T060000
END:STANDARD
END:VTIMEZONE
BEGIN:VEVENT
DTSTART;TZID=America/New_York:20251101T090000
DTEND;TZID=America/New_York:20251101T113000
DTSTAMP:20260420T035526
CREATED:20251028T134049Z
LAST-MODIFIED:20251028T142223Z
UID:36716-1761987600-1761996600@fergusonmuseum.org
SUMMARY:Bunker Clearing
DESCRIPTION:Join us at the Janet Harvey Sanctuary to help with our continued efforts to liberate historic Battery Hamilton and Battery Hoffman from vines and other vegetation. Meet next to the Ordnance. Lunch will be provided for volunteers.\nWhen: Saturday\, November 1\, 2025\nTime: 9:00 – 11:30 am\nPlace: Meet next to the Ordnance \nPlease RSVP to Scott Reid at bsr1265@gmail.com or 646-431-8536 by end of day Friday so that we can get a count for lunch. \nPHOTO CREDIT: Battery clearing February 1\, 2025 by Kate Stevens.
URL:https://fergusonmuseum.org/event/bunker-clearing/
CATEGORIES:Trail Clearing
ATTACH;FMTTYPE=image/jpeg:https://fergusonmuseum.org/wp-content/uploads/2025/10/CDSGBatteries_2-1-25-KStevens.jpg
END:VEVENT
END:VCALENDAR