BEGIN:VCALENDAR
VERSION:2.0
PRODID:-//Henry L. Ferguson Museum - ECPv6.15.17.1//NONSGML v1.0//EN
CALSCALE:GREGORIAN
METHOD:PUBLISH
X-ORIGINAL-URL:https://fergusonmuseum.org
X-WR-CALDESC:Events for Henry L. Ferguson Museum
REFRESH-INTERVAL;VALUE=DURATION:PT1H
X-Robots-Tag:noindex
X-PUBLISHED-TTL:PT1H
BEGIN:VTIMEZONE
TZID:America/New_York
BEGIN:DAYLIGHT
TZOFFSETFROM:-0500
TZOFFSETTO:-0400
TZNAME:EDT
DTSTART:20240310T070000
END:DAYLIGHT
BEGIN:STANDARD
TZOFFSETFROM:-0400
TZOFFSETTO:-0500
TZNAME:EST
DTSTART:20241103T060000
END:STANDARD
BEGIN:DAYLIGHT
TZOFFSETFROM:-0500
TZOFFSETTO:-0400
TZNAME:EDT
DTSTART:20250309T070000
END:DAYLIGHT
BEGIN:STANDARD
TZOFFSETFROM:-0400
TZOFFSETTO:-0500
TZNAME:EST
DTSTART:20251102T060000
END:STANDARD
BEGIN:DAYLIGHT
TZOFFSETFROM:-0500
TZOFFSETTO:-0400
TZNAME:EDT
DTSTART:20260308T070000
END:DAYLIGHT
BEGIN:STANDARD
TZOFFSETFROM:-0400
TZOFFSETTO:-0500
TZNAME:EST
DTSTART:20261101T060000
END:STANDARD
END:VTIMEZONE
BEGIN:VEVENT
DTSTART;TZID=America/New_York:20250822T173000
DTEND;TZID=America/New_York:20250822T190000
DTSTAMP:20260420T112044
CREATED:20250723T164045Z
LAST-MODIFIED:20250723T164045Z
UID:35512-1755883800-1755889200@fergusonmuseum.org
SUMMARY:Dialogues: Harriet Brickman & Jenny Dixon
DESCRIPTION:Artist Harriet Brickman sits down with Jenny Dixon\, former Director of the Noguchi Museum\, to revisit Passages: Beach Forms\, a site-specific public artwork Brickman created on South Beach\, Fishers Island\, in 1980. Their conversation will explore the work’s origins\, its connection to place\, and its resonance more than four decades later. \nWHEN: Friday\, August 22\, 2025\nTIME: 5:30 p.m. Reception | 6:00 p.m. Conversation\nPLACE: In-person at the Museum\, 2nd floor \nPlease note\, the Special Exhibition “Passages: A Public Sculpture Over Time\, 1980–2025” currently on display at the 2nd Floor Side Gallery\, chronicles the changes over time to this 1980 South Beach environmental art sculpture by artist Harriet Brickman. \nThis event is co-sponsored with Lighthouse Works
URL:https://fergusonmuseum.org/event/dialogues-harriet-brickman-jenny-dixon/
CATEGORIES:Illustrated Lecture,Reception
ATTACH;FMTTYPE=image/jpeg:https://fergusonmuseum.org/wp-content/uploads/2024/12/Harriet-Brickman_0230.jpg
END:VEVENT
END:VCALENDAR