BEGIN:VCALENDAR
VERSION:2.0
PRODID:-//Henry L. Ferguson Museum - ECPv6.15.17.1//NONSGML v1.0//EN
CALSCALE:GREGORIAN
METHOD:PUBLISH
X-WR-CALNAME:Henry L. Ferguson Museum
X-ORIGINAL-URL:https://fergusonmuseum.org
X-WR-CALDESC:Events for Henry L. Ferguson Museum
REFRESH-INTERVAL;VALUE=DURATION:PT1H
X-Robots-Tag:noindex
X-PUBLISHED-TTL:PT1H
BEGIN:VTIMEZONE
TZID:America/New_York
BEGIN:DAYLIGHT
TZOFFSETFROM:-0500
TZOFFSETTO:-0400
TZNAME:EDT
DTSTART:20200308T070000
END:DAYLIGHT
BEGIN:STANDARD
TZOFFSETFROM:-0400
TZOFFSETTO:-0500
TZNAME:EST
DTSTART:20201101T060000
END:STANDARD
BEGIN:DAYLIGHT
TZOFFSETFROM:-0500
TZOFFSETTO:-0400
TZNAME:EDT
DTSTART:20210314T070000
END:DAYLIGHT
BEGIN:STANDARD
TZOFFSETFROM:-0400
TZOFFSETTO:-0500
TZNAME:EST
DTSTART:20211107T060000
END:STANDARD
BEGIN:DAYLIGHT
TZOFFSETFROM:-0500
TZOFFSETTO:-0400
TZNAME:EDT
DTSTART:20220313T070000
END:DAYLIGHT
BEGIN:STANDARD
TZOFFSETFROM:-0400
TZOFFSETTO:-0500
TZNAME:EST
DTSTART:20221106T060000
END:STANDARD
END:VTIMEZONE
BEGIN:VEVENT
DTSTART;TZID=America/New_York:20210918T160000
DTEND;TZID=America/New_York:20210918T173000
DTSTAMP:20260423T154513
CREATED:20210909T183442Z
LAST-MODIFIED:20210910T095030Z
UID:23873-1631980800-1631986200@fergusonmuseum.org
SUMMARY:Benefit to Preserve Plum Island
DESCRIPTION:As members of the Preserve Plum Island Coalition\,\nthe H.L. Ferguson Museum\, the Fishers Island Conservancy\,\nand the Fishers Island Oyster Farm\ninvite you to a benefit for\nSave the Sound\nto support its leading role in the\nCampaign to Preserve Plum Island.\nWe hope that you are able to attend either in-person or virtually. \nThe afternoon’s program begins with a presentation by\nLouise Harrison\, Save the Sound’s New York Natural Areas Coordinator.\nMs. Harrison will address why the preservation of Plum Island is paramount\, and\nhow you can join the fight to preserve it for the people and wildlife of our region. \nWhere: F.I. Movie Theater\nWhen: Saturday\, September 18th\nTime: 4pm\nImmediately followed by a\nFishers Island Oysters & Champagne Reception\nfor in-person attendees. \nA webinar link will be provided soon for virtual attendees. \nLouise Harrison is a conservation biologist who has served in federal\, state\, and county agencies\, as well as in leadership and consulting positions for non-profit environmental organizations throughout Long Island. For example\, Louise worked on stewardship and habitat restoration as the U.S. Fish and Wildlife Service liaison to the Long Island Sound Study\, identified regionally important natural areas in New York State’s Long Island Sound Coastal Management Program\, and was appointed to create and plan the Long Island North Shore Heritage Area by the New York State Assembly. As New York Natural Areas Coordinator\, Louise has been at Save the Sound for five years\, stationed in Southold. While concentrating on the Plum Island preservation campaign\, Louise also has been advancing various land conservation and restoration efforts across Long Island’s North Shore\, from Queens to the North Fork.
URL:https://fergusonmuseum.org/event/benefit-to-preserve-plum-island/
CATEGORIES:Illustrated Lecture,Reception
ATTACH;FMTTYPE=image/jpeg:https://fergusonmuseum.org/wp-content/uploads/2021/09/PreservePlumIsland-Benefit-Invite.jpg
END:VEVENT
END:VCALENDAR