BEGIN:VCALENDAR
VERSION:2.0
PRODID:-//Henry L. Ferguson Museum - ECPv6.15.17.1//NONSGML v1.0//EN
CALSCALE:GREGORIAN
METHOD:PUBLISH
X-WR-CALNAME:Henry L. Ferguson Museum
X-ORIGINAL-URL:https://fergusonmuseum.org
X-WR-CALDESC:Events for Henry L. Ferguson Museum
REFRESH-INTERVAL;VALUE=DURATION:PT1H
X-Robots-Tag:noindex
X-PUBLISHED-TTL:PT1H
BEGIN:VTIMEZONE
TZID:America/New_York
BEGIN:DAYLIGHT
TZOFFSETFROM:-0500
TZOFFSETTO:-0400
TZNAME:EDT
DTSTART:20220313T070000
END:DAYLIGHT
BEGIN:STANDARD
TZOFFSETFROM:-0400
TZOFFSETTO:-0500
TZNAME:EST
DTSTART:20221106T060000
END:STANDARD
BEGIN:DAYLIGHT
TZOFFSETFROM:-0500
TZOFFSETTO:-0400
TZNAME:EDT
DTSTART:20230312T070000
END:DAYLIGHT
BEGIN:STANDARD
TZOFFSETFROM:-0400
TZOFFSETTO:-0500
TZNAME:EST
DTSTART:20231105T060000
END:STANDARD
BEGIN:DAYLIGHT
TZOFFSETFROM:-0500
TZOFFSETTO:-0400
TZNAME:EDT
DTSTART:20240310T070000
END:DAYLIGHT
BEGIN:STANDARD
TZOFFSETFROM:-0400
TZOFFSETTO:-0500
TZNAME:EST
DTSTART:20241103T060000
END:STANDARD
END:VTIMEZONE
BEGIN:VEVENT
DTSTART;TZID=America/New_York:20230727T103000
DTEND;TZID=America/New_York:20230727T223000
DTSTAMP:20260422T114628
CREATED:20230724T095521Z
LAST-MODIFIED:20230724T095521Z
UID:30050-1690453800-1690497000@fergusonmuseum.org
SUMMARY:Guided Nature Walk: South Beach
DESCRIPTION:The Museum guided nature walks are led by board member Terry McNamara Thursdays in July and August.\nMeet at the museum 10:30 AM \n\nSouth Beach Aerial Photograph by Todd McCormack
URL:https://fergusonmuseum.org/event/guided-nature-walk-south-beach/
LOCATION:Henry L. Ferguson Museum\, 1109 Equestrian Ave\, Fishers Island\, NY\, 06390\, United States
CATEGORIES:Nature Walk
ATTACH;FMTTYPE=image/jpeg:https://fergusonmuseum.org/wp-content/uploads/2021/06/28255_aerial_south_beach_Todd_McCormack.jpg
END:VEVENT
END:VCALENDAR