BEGIN:VCALENDAR
VERSION:2.0
PRODID:-//Henry L. Ferguson Museum - ECPv6.15.17.1//NONSGML v1.0//EN
CALSCALE:GREGORIAN
METHOD:PUBLISH
X-WR-CALNAME:Henry L. Ferguson Museum
X-ORIGINAL-URL:https://fergusonmuseum.org
X-WR-CALDESC:Events for Henry L. Ferguson Museum
REFRESH-INTERVAL;VALUE=DURATION:PT1H
X-Robots-Tag:noindex
X-PUBLISHED-TTL:PT1H
BEGIN:VTIMEZONE
TZID:America/New_York
BEGIN:DAYLIGHT
TZOFFSETFROM:-0500
TZOFFSETTO:-0400
TZNAME:EDT
DTSTART:20220313T070000
END:DAYLIGHT
BEGIN:STANDARD
TZOFFSETFROM:-0400
TZOFFSETTO:-0500
TZNAME:EST
DTSTART:20221106T060000
END:STANDARD
BEGIN:DAYLIGHT
TZOFFSETFROM:-0500
TZOFFSETTO:-0400
TZNAME:EDT
DTSTART:20230312T070000
END:DAYLIGHT
BEGIN:STANDARD
TZOFFSETFROM:-0400
TZOFFSETTO:-0500
TZNAME:EST
DTSTART:20231105T060000
END:STANDARD
BEGIN:DAYLIGHT
TZOFFSETFROM:-0500
TZOFFSETTO:-0400
TZNAME:EDT
DTSTART:20240310T070000
END:DAYLIGHT
BEGIN:STANDARD
TZOFFSETFROM:-0400
TZOFFSETTO:-0500
TZNAME:EST
DTSTART:20241103T060000
END:STANDARD
END:VTIMEZONE
BEGIN:VEVENT
DTSTART;TZID=America/New_York:20230720T103000
DTEND;TZID=America/New_York:20230720T103000
DTSTAMP:20260422T115725
CREATED:20230715T221148Z
LAST-MODIFIED:20230715T221323Z
UID:29998-1689849000-1689849000@fergusonmuseum.org
SUMMARY:Treasure Pond Trail Guided Nature Walk
DESCRIPTION:Join HLFM board member Terry McNamara for a Nature Walk through Brickyard woods of the Treasure Pond Trail.\nWhen: Thursday\, July 20\, 2023 at 10:30 AM \nLocation: Meet at the Museum \nThe Museum guided nature walks\, led by board member Terry McNamara\, are Thursdays in July and August.
URL:https://fergusonmuseum.org/event/treasure-pond-trail-guided-nature-walk/
LOCATION:Henry L. Ferguson Museum\, 1109 Equestrian Ave\, Fishers Island\, NY\, 06390\, United States
CATEGORIES:Nature Walk
ATTACH;FMTTYPE=image/jpeg:https://fergusonmuseum.org/wp-content/uploads/2020/03/TPT-CBFWS_1966.jpg
END:VEVENT
END:VCALENDAR