BEGIN:VCALENDAR
VERSION:2.0
PRODID:-//Henry L. Ferguson Museum - ECPv6.15.17.1//NONSGML v1.0//EN
CALSCALE:GREGORIAN
METHOD:PUBLISH
X-ORIGINAL-URL:https://fergusonmuseum.org
X-WR-CALDESC:Events for Henry L. Ferguson Museum
REFRESH-INTERVAL;VALUE=DURATION:PT1H
X-Robots-Tag:noindex
X-PUBLISHED-TTL:PT1H
BEGIN:VTIMEZONE
TZID:America/New_York
BEGIN:DAYLIGHT
TZOFFSETFROM:-0500
TZOFFSETTO:-0400
TZNAME:EDT
DTSTART:20240310T070000
END:DAYLIGHT
BEGIN:STANDARD
TZOFFSETFROM:-0400
TZOFFSETTO:-0500
TZNAME:EST
DTSTART:20241103T060000
END:STANDARD
BEGIN:DAYLIGHT
TZOFFSETFROM:-0500
TZOFFSETTO:-0400
TZNAME:EDT
DTSTART:20250309T070000
END:DAYLIGHT
BEGIN:STANDARD
TZOFFSETFROM:-0400
TZOFFSETTO:-0500
TZNAME:EST
DTSTART:20251102T060000
END:STANDARD
BEGIN:DAYLIGHT
TZOFFSETFROM:-0500
TZOFFSETTO:-0400
TZNAME:EDT
DTSTART:20260308T070000
END:DAYLIGHT
BEGIN:STANDARD
TZOFFSETFROM:-0400
TZOFFSETTO:-0500
TZNAME:EST
DTSTART:20261101T060000
END:STANDARD
END:VTIMEZONE
BEGIN:VEVENT
DTSTART;TZID=America/New_York:20251222T170000
DTEND;TZID=America/New_York:20251222T190000
DTSTAMP:20260421T115146
CREATED:20251201T140400Z
LAST-MODIFIED:20251201T140604Z
UID:37137-1766422800-1766430000@fergusonmuseum.org
SUMMARY:13th Annual HLFM Holiday Party
DESCRIPTION:Join us for an evening of Holiday cheer\,\nconvivial conversations\,\nand tasty light fare by Karla Heath.\nAdults and children of all ages are welcome\,\nas are visiting relatives and house guests! \nWhile at the Museum\, be sure to visit (or revisit)\nthe 2025 Annual Exhibit\nThe Cottage Colonies of Fishers Island\ngenerously sponsored by Altus Partners. \nWe hope to see you at the Museum!
URL:https://fergusonmuseum.org/event/13th-annual-hlfm-holiday-party/
CATEGORIES:Museum Event
ATTACH;FMTTYPE=image/jpeg:https://fergusonmuseum.org/wp-content/uploads/2025/12/HLFM_Holiday_Wreath_2025.jpg
END:VEVENT
END:VCALENDAR