BEGIN:VCALENDAR
VERSION:2.0
PRODID:-//Henry L. Ferguson Museum - ECPv6.15.17.1//NONSGML v1.0//EN
CALSCALE:GREGORIAN
METHOD:PUBLISH
X-WR-CALNAME:Henry L. Ferguson Museum
X-ORIGINAL-URL:https://fergusonmuseum.org
X-WR-CALDESC:Events for Henry L. Ferguson Museum
REFRESH-INTERVAL;VALUE=DURATION:PT1H
X-Robots-Tag:noindex
X-PUBLISHED-TTL:PT1H
BEGIN:VTIMEZONE
TZID:America/New_York
BEGIN:DAYLIGHT
TZOFFSETFROM:-0500
TZOFFSETTO:-0400
TZNAME:EDT
DTSTART:20230312T070000
END:DAYLIGHT
BEGIN:STANDARD
TZOFFSETFROM:-0400
TZOFFSETTO:-0500
TZNAME:EST
DTSTART:20231105T060000
END:STANDARD
BEGIN:DAYLIGHT
TZOFFSETFROM:-0500
TZOFFSETTO:-0400
TZNAME:EDT
DTSTART:20240310T070000
END:DAYLIGHT
BEGIN:STANDARD
TZOFFSETFROM:-0400
TZOFFSETTO:-0500
TZNAME:EST
DTSTART:20241103T060000
END:STANDARD
BEGIN:DAYLIGHT
TZOFFSETFROM:-0500
TZOFFSETTO:-0400
TZNAME:EDT
DTSTART:20250309T070000
END:DAYLIGHT
BEGIN:STANDARD
TZOFFSETFROM:-0400
TZOFFSETTO:-0500
TZNAME:EST
DTSTART:20251102T060000
END:STANDARD
END:VTIMEZONE
BEGIN:VEVENT
DTSTART;TZID=America/New_York:20241222T170000
DTEND;TZID=America/New_York:20241222T190000
DTSTAMP:20260422T081437
CREATED:20241202T112839Z
LAST-MODIFIED:20241202T224827Z
UID:33760-1734886800-1734894000@fergusonmuseum.org
SUMMARY:The 12th Annual HLFM Holiday Party
DESCRIPTION:Join us for an evening of Holiday cheer\, convivial conversations\, and tasty light fare by Karla Heath. Adults and children of all ages are welcome\, as are visiting relatives and house guests!\nWhile at the Museum\, be sure to visit (or revisit) the 2024 annual exhibit. \nWe hope to see you there!
URL:https://fergusonmuseum.org/event/the-12th-annual-hlfm-holiday-party/
LOCATION:Henry L. Ferguson Museum\, 1109 Equestrian Ave\, Fishers Island\, NY\, 06390\, United States
CATEGORIES:Family Program,Museum Event
ATTACH;FMTTYPE=image/jpeg:https://fergusonmuseum.org/wp-content/uploads/2024/12/HLFM-holiday-wreath-lt-green.jpg
END:VEVENT
END:VCALENDAR