BEGIN:VCALENDAR
VERSION:2.0
PRODID:-//Henry L. Ferguson Museum - ECPv6.15.17.1//NONSGML v1.0//EN
CALSCALE:GREGORIAN
METHOD:PUBLISH
X-WR-CALNAME:Henry L. Ferguson Museum
X-ORIGINAL-URL:https://fergusonmuseum.org
X-WR-CALDESC:Events for Henry L. Ferguson Museum
REFRESH-INTERVAL;VALUE=DURATION:PT1H
X-Robots-Tag:noindex
X-PUBLISHED-TTL:PT1H
BEGIN:VTIMEZONE
TZID:America/New_York
BEGIN:DAYLIGHT
TZOFFSETFROM:-0500
TZOFFSETTO:-0400
TZNAME:EDT
DTSTART:20230312T070000
END:DAYLIGHT
BEGIN:STANDARD
TZOFFSETFROM:-0400
TZOFFSETTO:-0500
TZNAME:EST
DTSTART:20231105T060000
END:STANDARD
BEGIN:DAYLIGHT
TZOFFSETFROM:-0500
TZOFFSETTO:-0400
TZNAME:EDT
DTSTART:20240310T070000
END:DAYLIGHT
BEGIN:STANDARD
TZOFFSETFROM:-0400
TZOFFSETTO:-0500
TZNAME:EST
DTSTART:20241103T060000
END:STANDARD
BEGIN:DAYLIGHT
TZOFFSETFROM:-0500
TZOFFSETTO:-0400
TZNAME:EDT
DTSTART:20250309T070000
END:DAYLIGHT
BEGIN:STANDARD
TZOFFSETFROM:-0400
TZOFFSETTO:-0500
TZNAME:EST
DTSTART:20251102T060000
END:STANDARD
END:VTIMEZONE
BEGIN:VEVENT
DTSTART;TZID=America/New_York:20241130T100000
DTEND;TZID=America/New_York:20241130T130000
DTSTAMP:20260422T095100
CREATED:20241127T164158Z
LAST-MODIFIED:20241127T164221Z
UID:33728-1732960800-1732971600@fergusonmuseum.org
SUMMARY:Holiday Sale!
DESCRIPTION:Holiday Sale! Get 20% off all items in the Museum Gift Shop this Friday and Saturday\, from 10am to 1pm.\nWe’ve got tons of new items in stock\, from books to posters to stationary to educational toys to stuffed animals\, and more. There’s something for every naturalist in your life\, no matter the age. The large format images on the second-floor gallery are also for sale and proceeds benefit the Museum’s Art Fund.
URL:https://fergusonmuseum.org/event/holiday-sale-2/
LOCATION:Henry L. Ferguson Museum\, 1109 Equestrian Ave\, Fishers Island\, NY\, 06390\, United States
CATEGORIES:Gift Shop,Museum Event
ATTACH;FMTTYPE=image/jpeg:https://fergusonmuseum.org/wp-content/uploads/2024/11/HLFM-Store-Sale.jpg
END:VEVENT
END:VCALENDAR