BEGIN:VCALENDAR
VERSION:2.0
PRODID:-//Henry L. Ferguson Museum - ECPv6.15.17.1//NONSGML v1.0//EN
CALSCALE:GREGORIAN
METHOD:PUBLISH
X-ORIGINAL-URL:https://fergusonmuseum.org
X-WR-CALDESC:Events for Henry L. Ferguson Museum
REFRESH-INTERVAL;VALUE=DURATION:PT1H
X-Robots-Tag:noindex
X-PUBLISHED-TTL:PT1H
BEGIN:VTIMEZONE
TZID:America/New_York
BEGIN:DAYLIGHT
TZOFFSETFROM:-0500
TZOFFSETTO:-0400
TZNAME:EDT
DTSTART:20220313T070000
END:DAYLIGHT
BEGIN:STANDARD
TZOFFSETFROM:-0400
TZOFFSETTO:-0500
TZNAME:EST
DTSTART:20221106T060000
END:STANDARD
BEGIN:DAYLIGHT
TZOFFSETFROM:-0500
TZOFFSETTO:-0400
TZNAME:EDT
DTSTART:20230312T070000
END:DAYLIGHT
BEGIN:STANDARD
TZOFFSETFROM:-0400
TZOFFSETTO:-0500
TZNAME:EST
DTSTART:20231105T060000
END:STANDARD
BEGIN:DAYLIGHT
TZOFFSETFROM:-0500
TZOFFSETTO:-0400
TZNAME:EDT
DTSTART:20240310T070000
END:DAYLIGHT
BEGIN:STANDARD
TZOFFSETFROM:-0400
TZOFFSETTO:-0500
TZNAME:EST
DTSTART:20241103T060000
END:STANDARD
END:VTIMEZONE
BEGIN:VEVENT
DTSTART;TZID=America/New_York:20231222T170000
DTEND;TZID=America/New_York:20231222T190000
DTSTAMP:20260423T024953
CREATED:20231203T150658Z
LAST-MODIFIED:20231203T151758Z
UID:31473-1703264400-1703271600@fergusonmuseum.org
SUMMARY:The 11th Annual HLFM Holiday Party
DESCRIPTION:Join us for an evening of Holiday cheer\, convivial conversations\, and tasty light fare by Karla Heath. Adults and children of all ages are welcome! Visiting relatives and house guests are welcome! While in the Museum\, make sure to visit (or revisit) the 2023 annual exhibit; The Sketchbooks of Charlie Ferguson\, generously sponsored by Altus Partners and CHUBB. \nWe hope to see you on December 22\, but if not\, have a safe and healthy Holiday! \nHoliday Greetings Artwork by Nora Neus.
URL:https://fergusonmuseum.org/event/the-11th-annual-hlfm-holiday-party/
CATEGORIES:Museum Event
ATTACH;FMTTYPE=image/jpeg:https://fergusonmuseum.org/wp-content/uploads/2022/12/HLFM_HolidayGreetings_NoraNeus.jpg
END:VEVENT
END:VCALENDAR