BEGIN:VCALENDAR
VERSION:2.0
PRODID:-//Henry L. Ferguson Museum - ECPv6.15.17.1//NONSGML v1.0//EN
CALSCALE:GREGORIAN
METHOD:PUBLISH
X-ORIGINAL-URL:https://fergusonmuseum.org
X-WR-CALDESC:Events for Henry L. Ferguson Museum
REFRESH-INTERVAL;VALUE=DURATION:PT1H
X-Robots-Tag:noindex
X-PUBLISHED-TTL:PT1H
BEGIN:VTIMEZONE
TZID:America/New_York
BEGIN:DAYLIGHT
TZOFFSETFROM:-0500
TZOFFSETTO:-0400
TZNAME:EDT
DTSTART:20220313T070000
END:DAYLIGHT
BEGIN:STANDARD
TZOFFSETFROM:-0400
TZOFFSETTO:-0500
TZNAME:EST
DTSTART:20221106T060000
END:STANDARD
BEGIN:DAYLIGHT
TZOFFSETFROM:-0500
TZOFFSETTO:-0400
TZNAME:EDT
DTSTART:20230312T070000
END:DAYLIGHT
BEGIN:STANDARD
TZOFFSETFROM:-0400
TZOFFSETTO:-0500
TZNAME:EST
DTSTART:20231105T060000
END:STANDARD
BEGIN:DAYLIGHT
TZOFFSETFROM:-0500
TZOFFSETTO:-0400
TZNAME:EDT
DTSTART:20240310T070000
END:DAYLIGHT
BEGIN:STANDARD
TZOFFSETFROM:-0400
TZOFFSETTO:-0500
TZNAME:EST
DTSTART:20241103T060000
END:STANDARD
END:VTIMEZONE
BEGIN:VEVENT
DTSTART;TZID=America/New_York:20230708T090000
DTEND;TZID=America/New_York:20230708T120000
DTSTAMP:20260423T102002
CREATED:20230702T002716Z
LAST-MODIFIED:20230702T002822Z
UID:29943-1688806800-1688817600@fergusonmuseum.org
SUMMARY:HLFM at IPP Craft Fair
DESCRIPTION:Visit our table on the Village Green during the IPP Craft Fair\nSaturday\, July 8\, 2023 \n9 am – 12 noon \nWe have new items this year!
URL:https://fergusonmuseum.org/event/hlfm-at-ipp-craft-fair/
LOCATION:Village Green\, Fishers Island
CATEGORIES:Museum Event
ATTACH;FMTTYPE=image/jpeg:https://fergusonmuseum.org/wp-content/uploads/2023/07/HLFM_on-the-Village-Green.jpg
END:VEVENT
END:VCALENDAR