BEGIN:VCALENDAR
VERSION:2.0
PRODID:-//Henry L. Ferguson Museum - ECPv6.15.17.1//NONSGML v1.0//EN
CALSCALE:GREGORIAN
METHOD:PUBLISH
X-WR-CALNAME:Henry L. Ferguson Museum
X-ORIGINAL-URL:https://fergusonmuseum.org
X-WR-CALDESC:Events for Henry L. Ferguson Museum
REFRESH-INTERVAL;VALUE=DURATION:PT1H
X-Robots-Tag:noindex
X-PUBLISHED-TTL:PT1H
BEGIN:VTIMEZONE
TZID:America/New_York
BEGIN:DAYLIGHT
TZOFFSETFROM:-0500
TZOFFSETTO:-0400
TZNAME:EDT
DTSTART:20210314T070000
END:DAYLIGHT
BEGIN:STANDARD
TZOFFSETFROM:-0400
TZOFFSETTO:-0500
TZNAME:EST
DTSTART:20211107T060000
END:STANDARD
BEGIN:DAYLIGHT
TZOFFSETFROM:-0500
TZOFFSETTO:-0400
TZNAME:EDT
DTSTART:20220313T070000
END:DAYLIGHT
BEGIN:STANDARD
TZOFFSETFROM:-0400
TZOFFSETTO:-0500
TZNAME:EST
DTSTART:20221106T060000
END:STANDARD
BEGIN:DAYLIGHT
TZOFFSETFROM:-0500
TZOFFSETTO:-0400
TZNAME:EDT
DTSTART:20230312T070000
END:DAYLIGHT
BEGIN:STANDARD
TZOFFSETFROM:-0400
TZOFFSETTO:-0500
TZNAME:EST
DTSTART:20231105T060000
END:STANDARD
END:VTIMEZONE
BEGIN:VEVENT
DTSTART;TZID=America/New_York:20220508T110000
DTEND;TZID=America/New_York:20220508T110000
DTSTAMP:20260424T072035
CREATED:20220328T121041Z
LAST-MODIFIED:20220328T121041Z
UID:25451-1652007600-1652007600@fergusonmuseum.org
SUMMARY:Daffodil Weekend: Hooverness Walking Tour
DESCRIPTION:Whether you are planning to plant bulbs in a fresh\, newly prepared empty garden\, or whether you are adding them to an already existing one\, Brent and Becky Heath\, 3rd generation bulb growers and owners of Brent and Becky’s Bulbs from Gloucester\, Virginia\, will have the answers for you!\nMay 7 and 8\, DAFFODIL WEEKEND \nSaturday\, 10:30AM\, Community Center (Elizabeth Reid)\nDemonstration\, Questions\, and Box Lunch with Brent and Becky Heath\n$20\, reservations\, please\, helenstreed@aol.com or (804) 539-4040 \nSaturday\, 3:00PM\, Ferguson Museum (Pierce Rafferty)\nIllustrated Lecture “Bulbs as Companion Plants” by Brent Heath \nSunday\, 11:00AM “Hooverness”\, Armstrong Garden\nWalking Tour with Brent\, Whitney\, and Mike \nAfter seeing and experiencing the demonstration\, the talk\, or the walk\, you’ll leave with information and inspiration to produce a garden that you\, your neighbors and friends will enjoy all year. \nWith exquisite images illustrating the seminar\, they will introduce you to the best of the best…the right bulbs for the right spots. They’ll show you how to combine bulbs\, perennials\, annuals\, ground covers and flowering shrubs that will create just the feeling you want to generate for three seasons in your garden. \nBrent Heath\nBrent grew up in Gloucester. He is a naturalist\, an author\, a photographer\, a speaker\, a daffodil hybridizer and a gardener. Because of achievements in all of these areas of expertise\, he has won many gold medal awards from various organizations in the horticultural industry. \nOne of Brent’s greatest joys is sharing his love of all things natural in the world and inspiring people of all ages and experiences to look at the world around them in a different\, eye-opening way. He has helped them understand how to take care of the earth for the next crop and/or for future generations. His plans for the future are to continue to play in his garden and care for the earth while encouraging others to do the same! \nBrent helped Tom Armstrong layout the daffodil fields at Hooverness.
URL:https://fergusonmuseum.org/event/daffodil-weekend-hooverness-walking-tour/
LOCATION:Hooverness
CATEGORIES:Museum Event
ATTACH;FMTTYPE=image/jpeg:https://fergusonmuseum.org/wp-content/uploads/2012/03/Hoovernes-wJSWSmay1_2010_001.jpg
END:VEVENT
END:VCALENDAR