BEGIN:VCALENDAR
VERSION:2.0
PRODID:-//Henry L. Ferguson Museum - ECPv6.15.17.1//NONSGML v1.0//EN
CALSCALE:GREGORIAN
METHOD:PUBLISH
X-WR-CALNAME:Henry L. Ferguson Museum
X-ORIGINAL-URL:https://fergusonmuseum.org
X-WR-CALDESC:Events for Henry L. Ferguson Museum
REFRESH-INTERVAL;VALUE=DURATION:PT1H
X-Robots-Tag:noindex
X-PUBLISHED-TTL:PT1H
BEGIN:VTIMEZONE
TZID:America/New_York
BEGIN:DAYLIGHT
TZOFFSETFROM:-0500
TZOFFSETTO:-0400
TZNAME:EDT
DTSTART:20190310T070000
END:DAYLIGHT
BEGIN:STANDARD
TZOFFSETFROM:-0400
TZOFFSETTO:-0500
TZNAME:EST
DTSTART:20191103T060000
END:STANDARD
BEGIN:DAYLIGHT
TZOFFSETFROM:-0500
TZOFFSETTO:-0400
TZNAME:EDT
DTSTART:20200308T070000
END:DAYLIGHT
BEGIN:STANDARD
TZOFFSETFROM:-0400
TZOFFSETTO:-0500
TZNAME:EST
DTSTART:20201101T060000
END:STANDARD
BEGIN:DAYLIGHT
TZOFFSETFROM:-0500
TZOFFSETTO:-0400
TZNAME:EDT
DTSTART:20210314T070000
END:DAYLIGHT
BEGIN:STANDARD
TZOFFSETFROM:-0400
TZOFFSETTO:-0500
TZNAME:EST
DTSTART:20211107T060000
END:STANDARD
BEGIN:DAYLIGHT
TZOFFSETFROM:-0500
TZOFFSETTO:-0400
TZNAME:EDT
DTSTART:20220313T070000
END:DAYLIGHT
BEGIN:STANDARD
TZOFFSETFROM:-0400
TZOFFSETTO:-0500
TZNAME:EST
DTSTART:20221106T060000
END:STANDARD
END:VTIMEZONE
BEGIN:VEVENT
DTSTART;TZID=America/New_York:20210825T140000
DTEND;TZID=America/New_York:20210825T150000
DTSTAMP:20260420T090917
CREATED:20210416T183556Z
LAST-MODIFIED:20210819T110226Z
UID:21459-1629900000-1629903600@fergusonmuseum.org
SUMMARY:Pollination Appreciation
DESCRIPTION:Pollinators love summer flowers! Learn about common and surprising pollinators and discover why plants are not the only ones that rely on these hard workers.\nGet some pointers for attracting pollinators to your backyard! \nDenison Pequotsepos Nature Center (DPNC) family program for ages five and up. \nWednesday\, August 25\, 2021. \nTime: 2 to 3 p.m. \nSuggested donation $10.\n \nAll Wednesday children’s programs are in person at the Museum. Attendee numbers are limited so advance registration is required.\nFace masks for young attendees are required. Vaccinated adults are welcome to attend without masks while outdoors on the deck but must wear masks within the Museum. Those who are unvaccinated must wear masks in all locations while on Museum property. \nPlease phone: 631-788-7239 or email fimuseum@fisherisland.net\n(note the name and date of the specific program and the name and age of the attendee/s).
URL:https://fergusonmuseum.org/event/pollination-appreciation/
CATEGORIES:Family Program
ATTACH;FMTTYPE=image/jpeg:https://fergusonmuseum.org/wp-content/uploads/2020/05/butterflies-dpnc.jpg
END:VEVENT
BEGIN:VEVENT
DTSTART;TZID=America/New_York:20210818T140000
DTEND;TZID=America/New_York:20210818T150000
DTSTAMP:20260420T090917
CREATED:20210416T180912Z
LAST-MODIFIED:20210727T182101Z
UID:21448-1629295200-1629298800@fergusonmuseum.org
SUMMARY:Animal Tails
DESCRIPTION:What special abilities do tails give animals? Learn about animals like beavers\, opossums\, squirrels and more. Discover how their super-powered tails help them survive in their specific habitats. \nDenison Pequotsepos Nature Center (DPNC) family program for ages five and up. \nWednesday\, August 18\, 2021. \nTime: 2 to 3 p.m. \nSuggested donation $10.\n \nAll Wednesday children’s programs are in person at the Museum. Attendee numbers are limited so advance registration is required.\nFace masks for young attendees are required. Vaccinated adults are welcome to attend without masks while outdoors on the deck but must wear masks within the Museum. Those who are unvaccinated must wear masks in all locations while on Museum property. \nPlease phone: 631-788-7239 or email fimuseum@fisherisland.net\n(note the name and date of the specific program and the name and age of the attendee/s). \nOpossum On The Ground. Public Domain photo by Sheila Brown
URL:https://fergusonmuseum.org/event/animal-tails/
CATEGORIES:Family Program
ATTACH;FMTTYPE=image/jpeg:https://fergusonmuseum.org/wp-content/uploads/2021/04/Squirrel-Eating-Vera-Kratochvil.jpg
END:VEVENT
BEGIN:VEVENT
DTSTART;TZID=America/New_York:20210816T090000
DTEND;TZID=America/New_York:20210820T120000
DTSTAMP:20260420T090917
CREATED:20210727T192122Z
LAST-MODIFIED:20210728T143655Z
UID:21853-1629104400-1629460800@fergusonmuseum.org
SUMMARY:FIND 2021
DESCRIPTION:FISHERS ISLAND NATURE DISCOVERY (FIND)\nA Week of Learning Programs for Young Island Naturalists Ages 7 to 11 \nFIND returns after a one-year absence with a myriad of environmental topics that pertain to the natural history and stewardship of our island! \nUsing the Ferguson Museum as a base\, the programs will provide an indoor/outdoor learning experience that introduces our children to the Island’s natural resources and some of the challenges we face in maintaining its fragile ecology. Led by professional educators\, the children will discover the Island’s natural history through a combination of hands-on exploration\, observation\, and interpretation. \nWHEN: One week from August 16 – 20; Monday through Friday\, 9 a.m. to noon. \nWHO: 20 children max\, all between the ages of 7 to 11. Attendees will be split into two groups\, one older and one younger. Each group will be led by two educators from the Denison Pequotsepos Nature Center\, assisted at times by guest naturalists. \nWHERE: Location will vary based on the daily plan\, but will include Fishers Island’s beaches\, woods\, and bodies of water – utilizing the Ferguson Museum as a home base. Programs will split time indoors and outdoors and will include art and science projects related to the subject matter. \nCOST: $350/per participant for the week. \nREGISTRATION: Please call the Museum (631-788-7239) or e-mail fimuseum@fishersisland.net to sign up your child/children. A registration form will be e-mailed to you. \nEVEN IF YOU HAVE ALREADY INDICATED YOUR INTEREST IN SIGNING UP YOUR CHILD OR CHILDREN\, PLEASE RECONFIRM.  \nThis is a wonderful opportunity for young children to develop a love of nature and ecology through participatory learning both at the Museum and in the field. \n\nFIND 2019
URL:https://fergusonmuseum.org/event/find-2021/
CATEGORIES:Family Program
ATTACH;FMTTYPE=image/jpeg:https://fergusonmuseum.org/wp-content/uploads/2020/05/HLFM-FIND-program.jpg
END:VEVENT
BEGIN:VEVENT
DTSTART;TZID=America/New_York:20210811T140000
DTEND;TZID=America/New_York:20210811T150000
DTSTAMP:20260420T090917
CREATED:20210416T160006Z
LAST-MODIFIED:20210727T181630Z
UID:21430-1628690400-1628694000@fergusonmuseum.org
SUMMARY:Tortoise and the Hare
DESCRIPTION:Slow and steady wins the race! Meet a box turtle and a bunny that make their home at DPNC. Learn about the adaptations of these very different animals. Discover whether the fable is really true.\nDenison Pequotsepos Nature Center (DPNC) family program for ages five and up. \nWednesday\, August 11\, 2021. \nTime: 2 to 3 p.m. \nSuggested donation $10.\n \nAll Wednesday children’s programs are in person at the Museum. Attendee numbers are limited so advance registration is required.\nFace masks for young attendees are required. Vaccinated adults are welcome to attend without masks while outdoors on the deck but must wear masks within the Museum. Those who are unvaccinated must wear masks in all locations while on Museum property. \nPlease phone: 631-788-7239 or email fimuseum@fisherisland.net\n(note the name and date of the specific program and the name and age of the attendee/s). \nDenison Pequotsepos Nature Center resident Box Turtle. \n  \nDenison Pequotsepos Nature Center resident bunny Cinnamon.
URL:https://fergusonmuseum.org/event/tortoise-and-the-hare/
CATEGORIES:Family Program
ATTACH;FMTTYPE=image/jpeg:https://fergusonmuseum.org/wp-content/uploads/2021/04/DPNC-Box-turtleRabbitt.jpg
END:VEVENT
BEGIN:VEVENT
DTSTART;TZID=America/New_York:20210804T140000
DTEND;TZID=America/New_York:20210804T150000
DTSTAMP:20260420T090917
CREATED:20210416T145143Z
LAST-MODIFIED:20210727T181336Z
UID:21420-1628085600-1628089200@fergusonmuseum.org
SUMMARY:Owl Prowl
DESCRIPTION:Come dissect an owl pellet and meet a resident owl. Learn about the life cycles and amazing adaptations of these remarkable birds.\nDenison Pequotsepos Nature Center (DPNC) family program for ages five and up. \nWednesday\, August 4\, 2021. \nTime: 2 to 3 p.m. \nSuggested donation $10.\n \nAll Wednesday children’s programs are in person at the Museum. Attendee numbers are limited so advance registration is required.\nFace masks for young attendees are required. Vaccinated adults are welcome to attend without masks while outdoors on the deck but must wear masks within the Museum. Those who are unvaccinated must wear masks in all locations while on Museum property. \nPlease phone: 631-788-7239 or email fimuseum@fisherisland.net\n(note the name and date of the specific program and the name and age of the attendee/s).
URL:https://fergusonmuseum.org/event/owl-prowl-2/
CATEGORIES:Family Program
ATTACH;FMTTYPE=image/jpeg:https://fergusonmuseum.org/wp-content/uploads/2020/05/owl_prowl_dpnc.jpg
END:VEVENT
BEGIN:VEVENT
DTSTART;TZID=America/New_York:20210728T140000
DTEND;TZID=America/New_York:20210728T150000
DTSTAMP:20260420T090917
CREATED:20210412T175112Z
LAST-MODIFIED:20210727T181425Z
UID:21386-1627480800-1627484400@fergusonmuseum.org
SUMMARY:Got to Get Away!
DESCRIPTION:Animals have amazing survival strategies: climbing to incredible heights\, digging nests and burrows\, and outswimming predators.\nLearn about local animals that practice these strategies and discover the adaptations that make survival possible. \nDenison Pequotsepos Nature Center (DPNC) family program for ages five and up. \nWednesday\, July 28\, 2021. \nTime: 2 to 3 p.m. \nSuggested donation $10.\n \nAll Wednesday children’s programs are in person at the Museum. Attendee numbers are limited so advance registration is required.\nFace masks for young attendees are required. Vaccinated adults are welcome to attend without masks while outdoors on the deck but must wear masks within the Museum. Those who are unvaccinated must wear masks in all locations while on Museum property. \nPlease phone: 631-788-7239 or email fimuseum@fisherisland.net\n(note the name and date of the specific program and the name and age of the attendee/s).
URL:https://fergusonmuseum.org/event/got-to-get-away/
CATEGORIES:Family Program
ATTACH;FMTTYPE=image/jpeg:https://fergusonmuseum.org/wp-content/uploads/2021/04/cottontail-rabbit-usfws.jpg
END:VEVENT
BEGIN:VEVENT
DTSTART;TZID=America/New_York:20210721T140000
DTEND;TZID=America/New_York:20210721T150000
DTSTAMP:20260420T090917
CREATED:20210412T172758Z
LAST-MODIFIED:20210715T184024Z
UID:21376-1626876000-1626879600@fergusonmuseum.org
SUMMARY:Backyard Birds and Insects
DESCRIPTION:Awaken to the wonder of the wild in your own backyard!\nMeet local species that live in your neighborhood and learn how you can help make your yard the perfect habitat for them. Make a seed bomb with native wildflower seeds. \nDenison Pequotsepos Nature Center (DPNC) family program for ages five and up. \nWednesday\, July 21\, 2021. \nTime: 2 to 3 p.m. \nSuggested donation $10.\n \nAll Wednesday children’s programs are in person at the Museum.\nSpace is limited. Facemasks and advance registration required. \nPlease phone: 631-788-7239 or email fimuseum@fisherisland.net\n(note the name and date of the specific program and the name and age of the attendee/s). \nPhoto by USFWS
URL:https://fergusonmuseum.org/event/backyard-birds-and-insects/
CATEGORIES:Family Program
ATTACH;FMTTYPE=image/jpeg:https://fergusonmuseum.org/wp-content/uploads/2021/04/pollinatorgarden_monarch_usfws.jpg
END:VEVENT
BEGIN:VEVENT
DTSTART;TZID=America/New_York:20210714T140000
DTEND;TZID=America/New_York:20210714T150000
DTSTAMP:20260420T090917
CREATED:20210412T162909Z
LAST-MODIFIED:20210518T221212Z
UID:21361-1626271200-1626274800@fergusonmuseum.org
SUMMARY:Rodents Running Wild
DESCRIPTION:Rodents live everywhere and come in all shapes and sizes from tiny field mice to giant beavers. Learn more about the amazing adaptations these ingenious critters have.\nDenison Pequotsepos Nature Center (DPNC) family program for ages five and up. \nWednesday\, July 14\, 2021. \nTime: 2 to 3 p.m. \nSuggested donation $10.\n \nAll Wednesday children’s programs are in person at the Museum.\nLimited to 15 children. Facemasks and advance registration required. \nPlease phone: 631-788-7239 or email fimuseum@fisherisland.net\n(note the name and date of the specific program and the name and age of the attendee/s).
URL:https://fergusonmuseum.org/event/rodents-running-wild/
CATEGORIES:Family Program
ATTACH;FMTTYPE=image/jpeg:https://fergusonmuseum.org/wp-content/uploads/2021/04/Beaver-Race-Point-29154-Stephanie-Hall.jpg
END:VEVENT
BEGIN:VEVENT
DTSTART;TZID=America/New_York:20210707T140000
DTEND;TZID=America/New_York:20210707T150000
DTSTAMP:20260420T090917
CREATED:20210412T145333Z
LAST-MODIFIED:20210705T141800Z
UID:21351-1625666400-1625670000@fergusonmuseum.org
SUMMARY:Magic of Feathers
DESCRIPTION:Discover some of the ways birds rely on their feathers for survival\, not just for flight. See images of feathers under a microscope\, and meet one of our resident birds!\nDenison Pequotsepos Nature Center (DPNC) family program for ages five and up. \nWednesday\, July 7\, 2021. \nTime: 2 to 3 p.m. \nSuggested donation $10.\n \nAll Wednesday children’s programs are in person at the Museum. \nAttendee numbers are limited so advance registration is required. Face masks for young attendees are required. Vaccinated adults are welcome to attend without masks while outdoors on the deck but must wear masks within the Museum. Those who are unvaccinated must wear masks in all locations while on Museum property.  \nPlease phone: 631-788-7239 or email fimuseum@fisherisland.net\n(note the name and date of the specific program and the name and age of the attendee/s).
URL:https://fergusonmuseum.org/event/magic-of-feathers/
CATEGORIES:Family Program
ATTACH;FMTTYPE=image/jpeg:https://fergusonmuseum.org/wp-content/uploads/2021/04/feathers-DPNC.jpg
END:VEVENT
BEGIN:VEVENT
DTSTART;TZID=America/New_York:20200826T140000
DTEND;TZID=America/New_York:20200826T144000
DTSTAMP:20260420T090917
CREATED:20200821T111957Z
LAST-MODIFIED:20200821T111957Z
UID:20211-1598450400-1598452800@fergusonmuseum.org
SUMMARY:Drawing Owls
DESCRIPTION:Family Program \nAfter meeting one of the Nature Center’s resident owls\, you will learn tips and techniques to create your own owl drawing.  You will need a pencil\, eraser and drawing paper.\nDPNC family program for ages 5 & up. Wednesday\, August 26\, 2020. 2 to 2:40 p.m. \nVirtual Program\, advance registration required. To sign up for children’s programs\, please e-mail fimuseum@fishersisland.net. Include the name and date of the specific program and the name and age of the attendee/s. \n\nNOTE: After receipt\, you will receive an email invitation to the virtual program.
URL:https://fergusonmuseum.org/event/drawing-owls/
CATEGORIES:Family Program
ATTACH;FMTTYPE=image/jpeg:https://fergusonmuseum.org/wp-content/uploads/2020/05/owl_prowl_dpnc.jpg
END:VEVENT
BEGIN:VEVENT
DTSTART;TZID=America/New_York:20200819T140000
DTEND;TZID=America/New_York:20200819T144000
DTSTAMP:20260420T090917
CREATED:20200512T181238Z
LAST-MODIFIED:20200729T163425Z
UID:17309-1597845600-1597848000@fergusonmuseum.org
SUMMARY:Remarkable Raptors
DESCRIPTION:Family Program \nSee live hawks and owls\, as you learn more about raptor’s important role in the ecosystem and discover which ones you might be able to see near your house.\nDPNC family program for ages 5 & up. Wednesday\, August 19\, 2020. 2 to 2:40 p.m. \nVirtual Program\, advance registration required. To sign up for children’s programs\, please e-mail fimuseum@fishersisland.net or use the form below to request an invitation. Include the name and date of the specific program and the name and age of the attendee/s. \n\nREGISTRATION REQUEST FORM\nNOTE: After receipt\, you will receive an email invitation to the virtual program. \n\n\n\n  \n\n\n\n Your Name (required):\n \n \n Your Email (required):\n \n \nFamily Program Sign-up:\nTerrific Turtles (July 8)Owl Prowl (July 15)Slithering Snakes (July 22)Pond Life (July 29)Beaks\, Feet & Feathers (Aug 5)Frogs – Facts vs Fiction (Aug 12)Remarkable Raptors (Aug 19)\n \n Attendee Names (required):\n \n \n Attendee Ages (required):\n \n \n Any Additional Message or questions? Please use this space:\n \n \n\n ×
URL:https://fergusonmuseum.org/event/remarkable-raptors/
CATEGORIES:Family Program
ATTACH;FMTTYPE=image/jpeg:https://fergusonmuseum.org/wp-content/uploads/2020/05/raptor-closeup.jpg
END:VEVENT
BEGIN:VEVENT
DTSTART;TZID=America/New_York:20200817T040000
DTEND;TZID=America/New_York:20200821T130000
DTSTAMP:20260420T090917
CREATED:20200603T202033Z
LAST-MODIFIED:20200728T203216Z
UID:18917-1597636800-1598014800@fergusonmuseum.org
SUMMARY:Fishers Island Nature Discovery Program
DESCRIPTION:For a combination of reasons\, including safety concerns\, logistical difficulties\, and over exposure of children to Zoom programming\, the HLFM has cancelled the FIND program for 2020\, previously scheduled for the week beginning Aug. 17\, 2020. We look forward to the return of the FIND program in 2021.\n 
URL:https://fergusonmuseum.org/event/fishers-island-nature-discovery-program/
CATEGORIES:Family Program
ATTACH;FMTTYPE=image/jpeg:https://fergusonmuseum.org/wp-content/uploads/2020/05/HLFM-FIND-program.jpg
END:VEVENT
BEGIN:VEVENT
DTSTART;TZID=America/New_York:20200812T140000
DTEND;TZID=America/New_York:20200812T144000
DTSTAMP:20260420T090917
CREATED:20200512T180832Z
LAST-MODIFIED:20200729T163320Z
UID:17305-1597240800-1597243200@fergusonmuseum.org
SUMMARY:Frogs – Facts vs Fiction
DESCRIPTION:Family Program \nDid you know that in the winter some frogs freeze or that you can’t get warts from a toad? See some of the Nature Center’s resident frogs as we learn to separate the facts from fiction regarding these awesome amphibians.\nDPNC family program for ages 5 & up. Wednesday\, August 12\, 2020. Time: 2 to 2:40 p.m. \nVirtual Program\, advance registration required. To sign up for children’s programs\, please e-mail fimuseum@fishersisland.net or use the form below to request an invitation. Include the name and date of the specific program and the name and age of the attendee/s. \n\nREGISTRATION REQUEST FORM\nNOTE: After receipt\, you will receive an email invitation to the virtual program. \n\n\n\n  \n\n\n\n Your Name (required):\n \n \n Your Email (required):\n \n \nFamily Program Sign-up:\nTerrific Turtles (July 8)Owl Prowl (July 15)Slithering Snakes (July 22)Pond Life (July 29)Beaks\, Feet & Feathers (Aug 5)Frogs – Facts vs Fiction (Aug 12)Remarkable Raptors (Aug 19)\n \n Attendee Names (required):\n \n \n Attendee Ages (required):\n \n \n Any Additional Message or questions? Please use this space:\n \n \n\n ×
URL:https://fergusonmuseum.org/event/frogs-facts-vs-fiction/
CATEGORIES:Family Program
ATTACH;FMTTYPE=image/jpeg:https://fergusonmuseum.org/wp-content/uploads/2020/05/frogs-dpnc.jpg
END:VEVENT
BEGIN:VEVENT
DTSTART;TZID=America/New_York:20200805T140000
DTEND;TZID=America/New_York:20200805T144000
DTSTAMP:20260420T090917
CREATED:20200512T180546Z
LAST-MODIFIED:20200729T163215Z
UID:17301-1596636000-1596638400@fergusonmuseum.org
SUMMARY:Beaks\, Feet & Feathers
DESCRIPTION:Family Program \nExplore the amazing adaptations of birds! Meet a live bird and learn how to identify the birds you may see in your backyard.\nDPNC family program for ages 5 & up. Wednesday\, August 5\, 2020. Time: 2 to 2:40 p.m. \nVirtual Program\, advance registration required. To sign up for children’s programs\, please e-mail fimuseum@fishersisland.net or use the form below to request an invitation. Include the name and date of the specific program and the name and age of the attendee/s. \n\nREGISTRATION REQUEST FORM\nNOTE: After receipt\, you will receive an email invitation to the virtual program. \n\n\n\n  \n\n\n\n Your Name (required):\n \n \n Your Email (required):\n \n \nFamily Program Sign-up:\nTerrific Turtles (July 8)Owl Prowl (July 15)Slithering Snakes (July 22)Pond Life (July 29)Beaks\, Feet & Feathers (Aug 5)Frogs – Facts vs Fiction (Aug 12)Remarkable Raptors (Aug 19)\n \n Attendee Names (required):\n \n \n Attendee Ages (required):\n \n \n Any Additional Message or questions? Please use this space:\n \n \n\n ×
URL:https://fergusonmuseum.org/event/beaks-feet-feathers/
CATEGORIES:Family Program
ATTACH;FMTTYPE=image/jpeg:https://fergusonmuseum.org/wp-content/uploads/2020/05/robin-dpnc.jpg
END:VEVENT
BEGIN:VEVENT
DTSTART;TZID=America/New_York:20200729T140000
DTEND;TZID=America/New_York:20200729T144000
DTSTAMP:20260420T090917
CREATED:20200512T180243Z
LAST-MODIFIED:20200729T163104Z
UID:17297-1596031200-1596033600@fergusonmuseum.org
SUMMARY:Pond Life
DESCRIPTION:Family Program \nPonds are full of incredible creatures. See the frogs\, turtles and insects that make up a pond’s ecosystem and learn more about their fascinating life cycles.\nDPNC family program for ages 5 & up. Wednesday\, July 29\, 2020. Time: 2 to 2:40 p.m. \nVirtual Program\, advance registration required. To sign up for children’s programs\, please e-mail fimuseum@fishersisland.net or use the form below to request an invitation. Include the name and date of the specific program and the name and age of the attendee/s. \n\nREGISTRATION REQUEST FORM\nNOTE: After receipt\, you will receive an email invitation to the virtual program. \n\n\n\n  \n\n\n\n Your Name (required):\n \n \n Your Email (required):\n \n \nFamily Program Sign-up:\nTerrific Turtles (July 8)Owl Prowl (July 15)Slithering Snakes (July 22)Pond Life (July 29)Beaks\, Feet & Feathers (Aug 5)Frogs – Facts vs Fiction (Aug 12)Remarkable Raptors (Aug 19)\n \n Attendee Names (required):\n \n \n Attendee Ages (required):\n \n \n Any Additional Message or questions? Please use this space:\n \n \n\n ×
URL:https://fergusonmuseum.org/event/pond-life/
CATEGORIES:Family Program
ATTACH;FMTTYPE=image/jpeg:https://fergusonmuseum.org/wp-content/uploads/2020/04/pr-3544children.jpg
END:VEVENT
BEGIN:VEVENT
DTSTART;TZID=America/New_York:20200722T100000
DTEND;TZID=America/New_York:20200722T104000
DTSTAMP:20260420T090917
CREATED:20200512T175948Z
LAST-MODIFIED:20200702T191622Z
UID:17293-1595412000-1595414400@fergusonmuseum.org
SUMMARY:Slithering Snakes
DESCRIPTION:Family Program \nSnakes aren’t scary\, despite how they are often portrayed in stories!\nParticipants will see live snakes and learn more about their important role in the environment. DPNC family program for ages 5 & up. Wednesday\, July 22\, 2020. Time: 2 to 2:40 p.m. \nVirtual Program\, advance registration required. To sign up for children’s programs\, please e-mail fimuseum@fishersisland.net or use the form below to request an invitation. Include the name and date of the specific program and the name and age of the attendee/s. \n\nREGISTRATION REQUEST FORM\nNOTE: After receipt\, you will receive an email invitation to the virtual program. \n\n\n\n  \n\n\n\n Your Name (required):\n \n \n Your Email (required):\n \n \nFamily Program Sign-up:\nTerrific Turtles (July 8)Owl Prowl (July 15)Slithering Snakes (July 22)Pond Life (July 29)Beaks\, Feet & Feathers (Aug 5)Frogs – Facts vs Fiction (Aug 12)Remarkable Raptors (Aug 19)\n \n Attendee Names (required):\n \n \n Attendee Ages (required):\n \n \n Any Additional Message or questions? Please use this space:\n \n \n\n ×
URL:https://fergusonmuseum.org/event/slithering-snakes/
CATEGORIES:Family Program
ATTACH;FMTTYPE=image/jpeg:https://fergusonmuseum.org/wp-content/uploads/2020/05/slithering-snake-dpnc.jpg
END:VEVENT
BEGIN:VEVENT
DTSTART;TZID=America/New_York:20200715T100000
DTEND;TZID=America/New_York:20200715T104000
DTSTAMP:20260420T090917
CREATED:20200512T175704Z
LAST-MODIFIED:20200702T191546Z
UID:17289-1594807200-1594809600@fergusonmuseum.org
SUMMARY:Owl Prowl
DESCRIPTION:Family Program \nLearn about owls’ many adaptations.\nChildren will “meet” a few of the Nature Center’s resident owls and ask questions about their remarkable lives. DPNC family program for ages 5 & up. Wednesday\, July 15\, 2020. Time: 2 to 2:40 p.m. \nVirtual Program\, advance registration required. To sign up for children’s programs\, please e-mail fimuseum@fishersisland.net or use the form below to request an invitation. Include the name and date of the specific program and the name and age of the attendee/s. \n\nREGISTRATION REQUEST FORM\nNOTE: After receipt\, you will receive an email invitation to the virtual program. \n\n\n\n  \n\n\n\n Your Name (required):\n \n \n Your Email (required):\n \n \nFamily Program Sign-up:\nTerrific Turtles (July 8)Owl Prowl (July 15)Slithering Snakes (July 22)Pond Life (July 29)Beaks\, Feet & Feathers (Aug 5)Frogs – Facts vs Fiction (Aug 12)Remarkable Raptors (Aug 19)\n \n Attendee Names (required):\n \n \n Attendee Ages (required):\n \n \n Any Additional Message or questions? Please use this space:\n \n \n\n ×
URL:https://fergusonmuseum.org/event/owl-prowl/
CATEGORIES:Family Program
ATTACH;FMTTYPE=image/jpeg:https://fergusonmuseum.org/wp-content/uploads/2020/05/owl_prowl-DPNC.jpg
END:VEVENT
BEGIN:VEVENT
DTSTART;TZID=America/New_York:20200708T100000
DTEND;TZID=America/New_York:20200708T104000
DTSTAMP:20260420T090917
CREATED:20200512T175346Z
LAST-MODIFIED:20200702T191514Z
UID:17285-1594202400-1594204800@fergusonmuseum.org
SUMMARY:Terrific Turtles
DESCRIPTION:Family Program. \nMeet a few of the Nature Center’s resident turtles as we discover their amazing adaptations\, which turtles live in your neighborhood\, and what you can do to help protect them.\nDPNC family program for ages 5 & up. Wednesday\, July 8\, 2020. Time: 2 to 2:40 p.m. \nVirtual Program\, advance registration required. To sign up for children’s programs\, please e-mail fimuseum@fishersisland.net or use the form below to request an invitation. Include the name and date of the specific program and the name and age of the attendee/s. \n\nREGISTRATION REQUEST FORM\nNOTE: After receipt\, you will receive an email invitation to the virtual program. \n\n\n\n  \n\n\n\n Your Name (required):\n \n \n Your Email (required):\n \n \nFamily Program Sign-up:\nTerrific Turtles (July 8)Owl Prowl (July 15)Slithering Snakes (July 22)Pond Life (July 29)Beaks\, Feet & Feathers (Aug 5)Frogs – Facts vs Fiction (Aug 12)Remarkable Raptors (Aug 19)\n \n Attendee Names (required):\n \n \n Attendee Ages (required):\n \n \n Any Additional Message or questions? Please use this space:\n \n \n\n ×
URL:https://fergusonmuseum.org/event/terrific-turtles/
CATEGORIES:Family Program
ATTACH;FMTTYPE=image/jpeg:https://fergusonmuseum.org/wp-content/uploads/2020/05/turtles-dpnc.jpg
END:VEVENT
BEGIN:VEVENT
DTSTART;TZID=America/New_York:20200701T100000
DTEND;TZID=America/New_York:20200701T104000
DTSTAMP:20260420T090917
CREATED:20200512T174844Z
LAST-MODIFIED:20200626T180618Z
UID:17281-1593597600-1593600000@fergusonmuseum.org
SUMMARY:Animal Senses
DESCRIPTION:Family Program. \nInvestigate the keen senses of different animals and investigate how they compare to animals in books.\nAnimal participants include live snakes\, turtle\, frogs and owls. Denison Pequotsepos Nature Center (DPNC) family program for ages 5 & up. Wednesday\, July 1\, 2020. Time: 2 to 2:40 p.m. Virtual Program\, advance registration required. To sign up for children’s programs\, please e-mail fimuseum@fishersisland.net to request an invitation. Note the name and date of the specific program and the name and age of the attendee/s.
URL:https://fergusonmuseum.org/event/animal-senses/
CATEGORIES:Family Program
ATTACH;FMTTYPE=image/jpeg:https://fergusonmuseum.org/wp-content/uploads/2020/05/frog-in-water-dpnc.jpg
END:VEVENT
END:VCALENDAR