BEGIN:VCALENDAR
VERSION:2.0
PRODID:-//Henry L. Ferguson Museum - ECPv6.15.17.1//NONSGML v1.0//EN
CALSCALE:GREGORIAN
METHOD:PUBLISH
X-ORIGINAL-URL:https://fergusonmuseum.org
X-WR-CALDESC:Events for Henry L. Ferguson Museum
REFRESH-INTERVAL;VALUE=DURATION:PT1H
X-Robots-Tag:noindex
X-PUBLISHED-TTL:PT1H
BEGIN:VTIMEZONE
TZID:America/New_York
BEGIN:DAYLIGHT
TZOFFSETFROM:-0500
TZOFFSETTO:-0400
TZNAME:EDT
DTSTART:20250309T070000
END:DAYLIGHT
BEGIN:STANDARD
TZOFFSETFROM:-0400
TZOFFSETTO:-0500
TZNAME:EST
DTSTART:20251102T060000
END:STANDARD
BEGIN:DAYLIGHT
TZOFFSETFROM:-0500
TZOFFSETTO:-0400
TZNAME:EDT
DTSTART:20260308T070000
END:DAYLIGHT
BEGIN:STANDARD
TZOFFSETFROM:-0400
TZOFFSETTO:-0500
TZNAME:EST
DTSTART:20261101T060000
END:STANDARD
BEGIN:DAYLIGHT
TZOFFSETFROM:-0500
TZOFFSETTO:-0400
TZNAME:EDT
DTSTART:20270314T070000
END:DAYLIGHT
BEGIN:STANDARD
TZOFFSETFROM:-0400
TZOFFSETTO:-0500
TZNAME:EST
DTSTART:20271107T060000
END:STANDARD
END:VTIMEZONE
BEGIN:VEVENT
DTSTART;TZID=America/New_York:20260708T140000
DTEND;TZID=America/New_York:20260708T150000
DTSTAMP:20260420T032719
CREATED:20260325T111556Z
LAST-MODIFIED:20260325T111556Z
UID:38291-1783519200-1783522800@fergusonmuseum.org
SUMMARY:Awesome Amphibians
DESCRIPTION:We love our slimy friends!\nLearn what amphibians are\, meet live frogs\, and find out why amphibians are so important to the environment. \nWHEN: Wednesday\, July 8\, 2026\nTIME: 2 to 3 p.m.\nLOCATION: In person at the Museum \nDenison Pequotsepos Nature Center (DPNC) family program for ages five and up.\nSuggested donation $10.\n \nAll Wednesday children’s programs are in person at the Museum.\nAttendance is limited to 15 children so advance registration is recommended.\nPlease phone: 631-788-7239 or email info@fergusonmuseum.org\n(note the name and date of the specific program and the name and age of the attendee/s).
URL:https://fergusonmuseum.org/event/awesome-amphibians-3/
CATEGORIES:Family Program
ATTACH;FMTTYPE=image/jpeg:https://fergusonmuseum.org/wp-content/uploads/2025/03/DPNC-frog-hopping.jpg
END:VEVENT
BEGIN:VEVENT
DTSTART;TZID=America/New_York:20260715T140000
DTEND;TZID=America/New_York:20260715T150000
DTSTAMP:20260420T032719
CREATED:20260325T113345Z
LAST-MODIFIED:20260325T113345Z
UID:38293-1784124000-1784127600@fergusonmuseum.org
SUMMARY:Every Seed Tells a Story!
DESCRIPTION:From a tiny acorn to a towering tree\, seeds grow into the plants that create food and shelter for wildlife. Discover how seeds become habitat for owls\, hawks\, turtles\, and frog—and how animals help plants grow in return. Meet live animals\, explore the journey from seed to ecosystem\, and create a seed craft to help plant native habitat in your own community. \nWHEN: Wednesday\, July 15\, 2026\nTIME: 2 to 3 p.m.\nLOCATION: In person at the Museum \nDenison Pequotsepos Nature Center (DPNC) family program for ages five and up.\nSuggested donation $10.\n \nAll Wednesday children’s programs are in person at the Museum.\nAttendance is limited to 15 children so advance registration is recommended.\nPlease phone: 631-788-7239 or email info@fergusonmuseum.org\n(note the name and date of the specific program and the name and age of the attendee/s).
URL:https://fergusonmuseum.org/event/every-seed-tells-a-story/
CATEGORIES:Family Program
ATTACH;FMTTYPE=image/jpeg:https://fergusonmuseum.org/wp-content/uploads/2026/03/iSt-2223489097-blueJay-wAcorn.jpg
END:VEVENT
BEGIN:VEVENT
DTSTART;TZID=America/New_York:20260722T140000
DTEND;TZID=America/New_York:20260722T150000
DTSTAMP:20260420T032719
CREATED:20260325T121640Z
LAST-MODIFIED:20260325T121819Z
UID:38298-1784728800-1784732400@fergusonmuseum.org
SUMMARY:Hidden Creatures
DESCRIPTION:Some animals are masters of staying out of sight! Discover hidden creatures who hide in plain sight\, come out only at night\, or live beneath our feet. We’ll meet real animal ambassadors and learn how their special adaptations help them survive sight unseen. \nWHEN: Wednesday\, July 22\, 2026\nTIME: 2 to 3 p.m.\nLOCATION: In person at the Museum \nDenison Pequotsepos Nature Center (DPNC) family program for ages five and up.\nSuggested donation $10.\n \nAll Wednesday children’s programs are in person at the Museum.\nAttendance is limited to 15 children so advance registration is recommended.\nPlease phone: 631-788-7239 or email info@fergusonmuseum.org\n(note the name and date of the specific program and the name and age of the attendee/s). \nPHOTO CREDIT: Groundhog exiting burrow\, Amy Moore\, Some Rights Reserved
URL:https://fergusonmuseum.org/event/hidden-creatures/
CATEGORIES:Family Program
ATTACH;FMTTYPE=image/jpeg:https://fergusonmuseum.org/wp-content/uploads/2026/03/Groundhog-exiting-burrow_Amy-Moore.jpg
END:VEVENT
BEGIN:VEVENT
DTSTART;TZID=America/New_York:20260729T140000
DTEND;TZID=America/New_York:20260729T150000
DTSTAMP:20260420T032719
CREATED:20260325T122521Z
LAST-MODIFIED:20260325T122521Z
UID:38302-1785333600-1785337200@fergusonmuseum.org
SUMMARY:Amazing Owls
DESCRIPTION:Meet DPNC’s ambassador owls and discover what makes these remarkable birds so unique! Learn about our native owl species and explore the incredible adaptations that help them thrive as nighttime hunters. Get hands-on with real owl artifacts\, then create your own owl craft to take home. \nWHEN: Wednesday\, July 29\, 2026\nTIME: 2 to 3 p.m.\nLOCATION: In person at the Museum \nDenison Pequotsepos Nature Center (DPNC) family program for ages five and up.\nSuggested donation $10.\n \nAll Wednesday children’s programs are in person at the Museum.\nAttendance is limited to 15 children so advance registration is recommended.\nPlease phone: 631-788-7239 or email info@fergusonmuseum.org\n(note the name and date of the specific program and the name and age of the attendee/s).
URL:https://fergusonmuseum.org/event/amazing-owls/
CATEGORIES:Family Program
ATTACH;FMTTYPE=image/jpeg:https://fergusonmuseum.org/wp-content/uploads/2024/04/great-horned-owl-Jake-Bonello-usfws.jpg
END:VEVENT
BEGIN:VEVENT
DTSTART;TZID=America/New_York:20260805T140000
DTEND;TZID=America/New_York:20260805T150000
DTSTAMP:20260420T032719
CREATED:20260325T124426Z
LAST-MODIFIED:20260325T124426Z
UID:38304-1785938400-1785942000@fergusonmuseum.org
SUMMARY:Super Animal Senses
DESCRIPTION:Explore the incredible senses animals use to understand the world around them! Meet live animals and discover how sight\, sound\, smell\, and touch help our native animals find food\, avoid danger\, and survive in the wild. \nWHEN: Wednesday\, August 5\, 2026\nTIME: 2 to 3 p.m.\nLOCATION: In person at the Museum \nDenison Pequotsepos Nature Center (DPNC) family program for ages five and up.\nSuggested donation $10.\n \nAll Wednesday children’s programs are in person at the Museum.\nAttendance is limited to 15 children so advance registration is recommended.\nPlease phone: 631-788-7239 or email info@fergusonmuseum.org\n(note the name and date of the specific program and the name and age of the attendee/s). \nPHOTO CREDIT: Black Racer snake\, Alligator River National Wildlife Refuge\, USFWS
URL:https://fergusonmuseum.org/event/super-animal-senses/
CATEGORIES:Family Program
ATTACH;FMTTYPE=image/jpeg:https://fergusonmuseum.org/wp-content/uploads/2026/03/black-racer-snake-usfws.jpg
END:VEVENT
BEGIN:VEVENT
DTSTART;TZID=America/New_York:20260812T140000
DTEND;TZID=America/New_York:20260812T150000
DTSTAMP:20260420T032719
CREATED:20260325T125359Z
LAST-MODIFIED:20260325T125457Z
UID:38307-1786543200-1786546800@fergusonmuseum.org
SUMMARY:Prehistoric Creatures
DESCRIPTION:Travel back in time to meet the animals and plants that lived long before humans—and discover which ones are still here today. Unearth the story of ancient wildlife and meet their modern relatives. \nWHEN: Wednesday\, August 12\, 2026\nTIME: 2 to 3 p.m.\nLOCATION: In person at the Museum \nDenison Pequotsepos Nature Center (DPNC) family program for ages five and up.\nSuggested donation $10.\n \nAll Wednesday children’s programs are in person at the Museum.\nAttendance is limited to 15 children so advance registration is recommended.\nPlease phone: 631-788-7239 or email info@fergusonmuseum.org\n(note the name and date of the specific program and the name and age of the attendee/s). \nPHOTO CREDIT: Snapping turtle. Courtesy of Justine Kibbe
URL:https://fergusonmuseum.org/event/prehistoric-creatures/
CATEGORIES:Family Program
ATTACH;FMTTYPE=image/jpeg:https://fergusonmuseum.org/wp-content/uploads/2022/03/15536_snapping-turtle_Turtleneck_jkibbe.jpg
END:VEVENT
BEGIN:VEVENT
DTSTART;TZID=America/New_York:20260817T090000
DTEND;TZID=America/New_York:20260821T120000
DTSTAMP:20260420T032719
CREATED:20260326T182537Z
LAST-MODIFIED:20260414T135844Z
UID:38331-1786957200-1787313600@fergusonmuseum.org
SUMMARY:FIND 2026 (MORNING PROGRAM)
DESCRIPTION:FISHERS ISLAND NATURE DISCOVERY\n2026 – The 7th Year of FIND\nA Week (5 DAYS from 9 AM to NOON) of Learning Programs for Young Island Naturalists Ages 5 to 10. \nFIND offers a week of learning programs for young Island naturalists on a variety of environmental topics relating to the natural history and stewardship of our Island.\nUsing the Ferguson Museum as a base\, the programs provide an indoor/outdoor learning experience that introduces our children to the Island’s natural resources and some of the challenges faced in maintaining its fragile ecology. Led by educators\, the children discover the Island’s natural history through a combination of hands-on exploration\, observation\, and interpretation. \nWHEN: The 2026 FIND program will run for one week from August 17 to August 21; Monday through Friday\, 9 a.m. to noon. To promote group cohesion and learning\, we encourage all participants to attend all five sessions. \nWHO: 20 children max\, all between the ages of 5 to 10. Depending on numbers\, attendees will either be in one group\, or split into two groups by age. \nEach group will be led by educator/s from the Denison Pequotsepos Nature Center (DPNC) or the Niantic Children’s Museum\, assisted at times by Museum staff and guest naturalists. \nWHERE: Outdoor locations will vary based on the daily plan\, but will include Fishers Island’s beaches\, woods\, and ponds. Indoor learning will take place at the Museum and will include art and science projects related to the daily subject matter. \nCOST: The cost per participant is $425 for the week. (Current FI School students can attend at no cost.) \nREGISTRATION: Please call the Museum (631-788-7239) or e-mail info@fergusonmuseum.org to reserve a spot for your child/children (and note the FIND program and the name and age of the attendee/s). The registration and payment form will then be sent to you. \nThis is a wonderful opportunity for young children to develop a love of nature and ecology through participatory learning both at the Museum and in the field.
URL:https://fergusonmuseum.org/event/find-2026-morning-program/
CATEGORIES:Family Program
ATTACH;FMTTYPE=image/jpeg:https://fergusonmuseum.org/wp-content/uploads/2020/05/HLFM-FIND-program.jpg
END:VEVENT
BEGIN:VEVENT
DTSTART;TZID=America/New_York:20260819T140000
DTEND;TZID=America/New_York:20260819T150000
DTSTAMP:20260420T032719
CREATED:20260325T130520Z
LAST-MODIFIED:20260325T130520Z
UID:38310-1787148000-1787151600@fergusonmuseum.org
SUMMARY:Inspect an Insect
DESCRIPTION:Gain an appreciation for the diversity of insects as we examine insect specimens\, meet a live insect\, and use nets to see what insects are living outside of the museum! \nWHEN: Wednesday\, August 19\, 2026\nTIME: 2 to 3 p.m.\nLOCATION: In person at the Museum \nDenison Pequotsepos Nature Center (DPNC) family program for ages five and up.\nSuggested donation $10.\n \nAll Wednesday children’s programs are in person at the Museum.\nAttendance is limited to 15 children so advance registration is recommended.\nPlease phone: 631-788-7239 or email info@fergusonmuseum.org\n(note the name and date of the specific program and the name and age of the attendee/s).
URL:https://fergusonmuseum.org/event/inspect-an-insect-2/
CATEGORIES:Family Program
ATTACH;FMTTYPE=image/jpeg:https://fergusonmuseum.org/wp-content/uploads/2026/03/monarch-butterfly_usfws.jpg
END:VEVENT
BEGIN:VEVENT
DTSTART;TZID=America/New_York:20260826T140000
DTEND;TZID=America/New_York:20260826T150000
DTSTAMP:20260420T032719
CREATED:20260325T131704Z
LAST-MODIFIED:20260325T131704Z
UID:38313-1787752800-1787756400@fergusonmuseum.org
SUMMARY:Innovative Animal Adaptations
DESCRIPTION:Discover the world of biomicry and learn about human inventions that were inspired by animals and plants in the wild. Explore hands-on activities to replicate some of the incredible adaptations that animals have perfected over millions of years. Meet DPNC ambassador animals and observe their innovative adaptations! \nWHEN: Wednesday\, August 26\, 2026\nTIME: 2 to 3 p.m.\nLOCATION: In person at the Museum \nDenison Pequotsepos Nature Center (DPNC) family program for ages five and up.\nSuggested donation $10.\n \nAll Wednesday children’s programs are in person at the Museum.\nAttendance is limited to 15 children so advance registration is recommended.\nPlease phone: 631-788-7239 or email info@fergusonmuseum.org\n(note the name and date of the specific program and the name and age of the attendee/s).
URL:https://fergusonmuseum.org/event/innovative-animal-adaptations-2/
CATEGORIES:Family Program
ATTACH;FMTTYPE=image/jpeg:https://fergusonmuseum.org/wp-content/uploads/2026/03/belted-kingfisher_Courtney-Celley_usfws.jpg
END:VEVENT
END:VCALENDAR