BEGIN:VCALENDAR
VERSION:2.0
PRODID:-//Henry L. Ferguson Museum - ECPv6.15.17.1//NONSGML v1.0//EN
CALSCALE:GREGORIAN
METHOD:PUBLISH
X-ORIGINAL-URL:https://fergusonmuseum.org
X-WR-CALDESC:Events for Henry L. Ferguson Museum
REFRESH-INTERVAL;VALUE=DURATION:PT1H
X-Robots-Tag:noindex
X-PUBLISHED-TTL:PT1H
BEGIN:VTIMEZONE
TZID:America/New_York
BEGIN:DAYLIGHT
TZOFFSETFROM:-0500
TZOFFSETTO:-0400
TZNAME:EDT
DTSTART:20250309T070000
END:DAYLIGHT
BEGIN:STANDARD
TZOFFSETFROM:-0400
TZOFFSETTO:-0500
TZNAME:EST
DTSTART:20251102T060000
END:STANDARD
BEGIN:DAYLIGHT
TZOFFSETFROM:-0500
TZOFFSETTO:-0400
TZNAME:EDT
DTSTART:20260308T070000
END:DAYLIGHT
BEGIN:STANDARD
TZOFFSETFROM:-0400
TZOFFSETTO:-0500
TZNAME:EST
DTSTART:20261101T060000
END:STANDARD
BEGIN:DAYLIGHT
TZOFFSETFROM:-0500
TZOFFSETTO:-0400
TZNAME:EDT
DTSTART:20270314T070000
END:DAYLIGHT
BEGIN:STANDARD
TZOFFSETFROM:-0400
TZOFFSETTO:-0500
TZNAME:EST
DTSTART:20271107T060000
END:STANDARD
END:VTIMEZONE
BEGIN:VEVENT
DTSTART;TZID=America/New_York:20260805T140000
DTEND;TZID=America/New_York:20260805T150000
DTSTAMP:20260420T095031
CREATED:20260325T124426Z
LAST-MODIFIED:20260325T124426Z
UID:38304-1785938400-1785942000@fergusonmuseum.org
SUMMARY:Super Animal Senses
DESCRIPTION:Explore the incredible senses animals use to understand the world around them! Meet live animals and discover how sight\, sound\, smell\, and touch help our native animals find food\, avoid danger\, and survive in the wild. \nWHEN: Wednesday\, August 5\, 2026\nTIME: 2 to 3 p.m.\nLOCATION: In person at the Museum \nDenison Pequotsepos Nature Center (DPNC) family program for ages five and up.\nSuggested donation $10.\n \nAll Wednesday children’s programs are in person at the Museum.\nAttendance is limited to 15 children so advance registration is recommended.\nPlease phone: 631-788-7239 or email info@fergusonmuseum.org\n(note the name and date of the specific program and the name and age of the attendee/s). \nPHOTO CREDIT: Black Racer snake\, Alligator River National Wildlife Refuge\, USFWS
URL:https://fergusonmuseum.org/event/super-animal-senses/
CATEGORIES:Family Program
ATTACH;FMTTYPE=image/jpeg:https://fergusonmuseum.org/wp-content/uploads/2026/03/black-racer-snake-usfws.jpg
END:VEVENT
END:VCALENDAR