BEGIN:VCALENDAR
VERSION:2.0
PRODID:-//Henry L. Ferguson Museum - ECPv6.15.17.1//NONSGML v1.0//EN
CALSCALE:GREGORIAN
METHOD:PUBLISH
X-ORIGINAL-URL:https://fergusonmuseum.org
X-WR-CALDESC:Events for Henry L. Ferguson Museum
REFRESH-INTERVAL;VALUE=DURATION:PT1H
X-Robots-Tag:noindex
X-PUBLISHED-TTL:PT1H
BEGIN:VTIMEZONE
TZID:America/New_York
BEGIN:DAYLIGHT
TZOFFSETFROM:-0500
TZOFFSETTO:-0400
TZNAME:EDT
DTSTART:20250309T070000
END:DAYLIGHT
BEGIN:STANDARD
TZOFFSETFROM:-0400
TZOFFSETTO:-0500
TZNAME:EST
DTSTART:20251102T060000
END:STANDARD
BEGIN:DAYLIGHT
TZOFFSETFROM:-0500
TZOFFSETTO:-0400
TZNAME:EDT
DTSTART:20260308T070000
END:DAYLIGHT
BEGIN:STANDARD
TZOFFSETFROM:-0400
TZOFFSETTO:-0500
TZNAME:EST
DTSTART:20261101T060000
END:STANDARD
BEGIN:DAYLIGHT
TZOFFSETFROM:-0500
TZOFFSETTO:-0400
TZNAME:EDT
DTSTART:20270314T070000
END:DAYLIGHT
BEGIN:STANDARD
TZOFFSETFROM:-0400
TZOFFSETTO:-0500
TZNAME:EST
DTSTART:20271107T060000
END:STANDARD
END:VTIMEZONE
BEGIN:VEVENT
DTSTART;TZID=America/New_York:20260708T140000
DTEND;TZID=America/New_York:20260708T150000
DTSTAMP:20260420T055611
CREATED:20260325T111556Z
LAST-MODIFIED:20260325T111556Z
UID:38291-1783519200-1783522800@fergusonmuseum.org
SUMMARY:Awesome Amphibians
DESCRIPTION:We love our slimy friends!\nLearn what amphibians are\, meet live frogs\, and find out why amphibians are so important to the environment. \nWHEN: Wednesday\, July 8\, 2026\nTIME: 2 to 3 p.m.\nLOCATION: In person at the Museum \nDenison Pequotsepos Nature Center (DPNC) family program for ages five and up.\nSuggested donation $10.\n \nAll Wednesday children’s programs are in person at the Museum.\nAttendance is limited to 15 children so advance registration is recommended.\nPlease phone: 631-788-7239 or email info@fergusonmuseum.org\n(note the name and date of the specific program and the name and age of the attendee/s).
URL:https://fergusonmuseum.org/event/awesome-amphibians-3/
CATEGORIES:Family Program
ATTACH;FMTTYPE=image/jpeg:https://fergusonmuseum.org/wp-content/uploads/2025/03/DPNC-frog-hopping.jpg
END:VEVENT
END:VCALENDAR