BEGIN:VCALENDAR
VERSION:2.0
PRODID:-//Henry L. Ferguson Museum - ECPv6.15.17.1//NONSGML v1.0//EN
CALSCALE:GREGORIAN
METHOD:PUBLISH
X-WR-CALNAME:Henry L. Ferguson Museum
X-ORIGINAL-URL:https://fergusonmuseum.org
X-WR-CALDESC:Events for Henry L. Ferguson Museum
REFRESH-INTERVAL;VALUE=DURATION:PT1H
X-Robots-Tag:noindex
X-PUBLISHED-TTL:PT1H
BEGIN:VTIMEZONE
TZID:America/New_York
BEGIN:DAYLIGHT
TZOFFSETFROM:-0500
TZOFFSETTO:-0400
TZNAME:EDT
DTSTART:20240310T070000
END:DAYLIGHT
BEGIN:STANDARD
TZOFFSETFROM:-0400
TZOFFSETTO:-0500
TZNAME:EST
DTSTART:20241103T060000
END:STANDARD
BEGIN:DAYLIGHT
TZOFFSETFROM:-0500
TZOFFSETTO:-0400
TZNAME:EDT
DTSTART:20250309T070000
END:DAYLIGHT
BEGIN:STANDARD
TZOFFSETFROM:-0400
TZOFFSETTO:-0500
TZNAME:EST
DTSTART:20251102T060000
END:STANDARD
BEGIN:DAYLIGHT
TZOFFSETFROM:-0500
TZOFFSETTO:-0400
TZNAME:EDT
DTSTART:20260308T070000
END:DAYLIGHT
BEGIN:STANDARD
TZOFFSETFROM:-0400
TZOFFSETTO:-0500
TZNAME:EST
DTSTART:20261101T060000
END:STANDARD
END:VTIMEZONE
BEGIN:VEVENT
DTSTART;TZID=America/New_York:20250628T170000
DTEND;TZID=America/New_York:20250628T190000
DTSTAMP:20260421T035020
CREATED:20250519T181442Z
LAST-MODIFIED:20250519T181549Z
UID:34751-1751130000-1751137200@fergusonmuseum.org
SUMMARY:2025 Annual Exhibitions Opening Reception
DESCRIPTION:Join us for our opening reception:\nSaturday\, June 28th\, 5 to 7 PM\nAll are Welcome! \nRefreshments will be served on the deck\, weather permitting\, or inside\, if need be. \nThe Henry L. Ferguson Museum • 2025 Exhibitions \nThe Cottage Colonies of Fishers Island\nIst Floor Main Gallery \nThe Longer Look: Photographs by John Wilton\n2nd Floor Main Gallery \nPassages: A Public Sculpture Over Time\, 1980–2025\n2nd Floor Side gallery \nSteps of Battery Marcy\, Parade Ground\, 1997. \nPeople viewing sculpture by artist Harriet Brickman\, South Beach\, Sept. 1980  \n2025 Annual exhibitions sponsored by ALTUS Partners
URL:https://fergusonmuseum.org/event/2025-annual-exhibitions-opening-reception/
CATEGORIES:Exhibition
ATTACH;FMTTYPE=image/jpeg:https://fergusonmuseum.org/wp-content/uploads/2025/05/Ex2025-The-Cottage-Colonies-of-FI-crop.jpg
END:VEVENT
END:VCALENDAR