BEGIN:VCALENDAR
VERSION:2.0
PRODID:-//Henry L. Ferguson Museum - ECPv6.15.17.1//NONSGML v1.0//EN
CALSCALE:GREGORIAN
METHOD:PUBLISH
X-ORIGINAL-URL:https://fergusonmuseum.org
X-WR-CALDESC:Events for Henry L. Ferguson Museum
REFRESH-INTERVAL;VALUE=DURATION:PT1H
X-Robots-Tag:noindex
X-PUBLISHED-TTL:PT1H
BEGIN:VTIMEZONE
TZID:America/New_York
BEGIN:DAYLIGHT
TZOFFSETFROM:-0500
TZOFFSETTO:-0400
TZNAME:EDT
DTSTART:20200308T070000
END:DAYLIGHT
BEGIN:STANDARD
TZOFFSETFROM:-0400
TZOFFSETTO:-0500
TZNAME:EST
DTSTART:20201101T060000
END:STANDARD
BEGIN:DAYLIGHT
TZOFFSETFROM:-0500
TZOFFSETTO:-0400
TZNAME:EDT
DTSTART:20210314T070000
END:DAYLIGHT
BEGIN:STANDARD
TZOFFSETFROM:-0400
TZOFFSETTO:-0500
TZNAME:EST
DTSTART:20211107T060000
END:STANDARD
BEGIN:DAYLIGHT
TZOFFSETFROM:-0500
TZOFFSETTO:-0400
TZNAME:EDT
DTSTART:20220313T070000
END:DAYLIGHT
BEGIN:STANDARD
TZOFFSETFROM:-0400
TZOFFSETTO:-0500
TZNAME:EST
DTSTART:20221106T060000
END:STANDARD
BEGIN:DAYLIGHT
TZOFFSETFROM:-0500
TZOFFSETTO:-0400
TZNAME:EDT
DTSTART:20230312T070000
END:DAYLIGHT
BEGIN:STANDARD
TZOFFSETFROM:-0400
TZOFFSETTO:-0500
TZNAME:EST
DTSTART:20231105T060000
END:STANDARD
BEGIN:DAYLIGHT
TZOFFSETFROM:-0500
TZOFFSETTO:-0400
TZNAME:EDT
DTSTART:20240310T070000
END:DAYLIGHT
BEGIN:STANDARD
TZOFFSETFROM:-0400
TZOFFSETTO:-0500
TZNAME:EST
DTSTART:20241103T060000
END:STANDARD
BEGIN:DAYLIGHT
TZOFFSETFROM:-0500
TZOFFSETTO:-0400
TZNAME:EDT
DTSTART:20250309T070000
END:DAYLIGHT
BEGIN:STANDARD
TZOFFSETFROM:-0400
TZOFFSETTO:-0500
TZNAME:EST
DTSTART:20251102T060000
END:STANDARD
BEGIN:DAYLIGHT
TZOFFSETFROM:-0500
TZOFFSETTO:-0400
TZNAME:EDT
DTSTART:20260308T070000
END:DAYLIGHT
BEGIN:STANDARD
TZOFFSETFROM:-0400
TZOFFSETTO:-0500
TZNAME:EST
DTSTART:20261101T060000
END:STANDARD
END:VTIMEZONE
BEGIN:VEVENT
DTSTART;TZID=America/New_York:20251102T090000
DTEND;TZID=America/New_York:20251102T090000
DTSTAMP:20260419T210823
CREATED:20251024T174117Z
LAST-MODIFIED:20251024T174255Z
UID:36680-1762074000-1762074000@fergusonmuseum.org
SUMMARY:Backyard Birding with Ken
DESCRIPTION:Join us for coffee\, tea\, pastries\, and birdwatching with local naturalist Ken Edwards\, Sr.\nWhen: Sunday\, November 2\, 2025\nTime: 9 am\nPlace: At the Museum\, Gazebo (back deck) \nKen is well-known on the Island and beyond for his wide breadth of wildlife knowledge and his particular passion for birds. Together\, we’ll watch the feeder at the Museum gazebo and learn from Ken’s expertise. All ages welcome.
URL:https://fergusonmuseum.org/event/backyard-birding-with-ken-2/
CATEGORIES:Bird Watch
ATTACH;FMTTYPE=image/jpeg:https://fergusonmuseum.org/wp-content/uploads/2020/07/Ken-Edwards-Sr-TMcCormack_4042.jpg
END:VEVENT
BEGIN:VEVENT
DTSTART;TZID=America/New_York:20250601T090000
DTEND;TZID=America/New_York:20250601T100000
DTSTAMP:20260419T210823
CREATED:20250516T213709Z
LAST-MODIFIED:20250519T173443Z
UID:34733-1748768400-1748772000@fergusonmuseum.org
SUMMARY:Backyard Birding with Ken
DESCRIPTION:Join us at the Museum for coffee\, pastries\, and birdwatching with local naturalist Ken Edwards\, Sr.\nWhen: Sunday\, June 1\, 2025\nTime: 9-10 am\nPlace: At the Museum\, Gazebo (back deck) \nKen is well-known on the Island and beyond for his wide breadth of wildlife knowledge and his particular passion for birds. Together\, we’ll watch the feeder at the H. Lee Ferguson\, Jr. Sanctuary and identify birds as they flit through the canopy. All ages welcome. \nAmerican Goldfinch (male) photo by Dave Menke\, USFWS
URL:https://fergusonmuseum.org/event/backyard-birding-with-ken/
CATEGORIES:Bird Watch
ATTACH;FMTTYPE=image/jpeg:https://fergusonmuseum.org/wp-content/uploads/2025/05/American-Goldfinch_USFWS_natdiglib_12833.jpg
END:VEVENT
BEGIN:VEVENT
DTSTART;TZID=America/New_York:20221015T083000
DTEND;TZID=America/New_York:20221015T100000
DTSTAMP:20260419T210823
CREATED:20220930T230232Z
LAST-MODIFIED:20220930T230335Z
UID:27895-1665822600-1665828000@fergusonmuseum.org
SUMMARY:Hawk Bird Watch with Maggie Jones
DESCRIPTION:H.L. Ferguson Museum invites you to a\nHAWK WATCH\nwith birder and naturalist Maggie Jones\nSaturday\, October 15th\, 2022\nTime: 8:30 a.m.\nLocation: Museum Parking Lot\nWe will carpool from the museum to the Airport\, where Maggie will lead our guided walk around 8:45 am. \nPlease dress for the weather and don’t forget your binoculars! Length of walk is one hour to one hour and half. Participant numbers are limited so please RSVP by emailing Pierce Rafferty at fimuseum@fishersisland.net\, or by calling the Museum: (631) 788-7239. Your RSVP will be confirmed by Pierce. Please remember to social distance and masks are suggested.\n \nA Penni Sharp Nature Walk is sponsored each year in loving memory of Penelope “Penni” Sharp\, birder\, botanist & HLFM president from 2003 until 2014. \nIn 2020 a group of 15 masked and distanced bird watchers got a perfect day for migrating hawks and songbirds (and a few Monarch butterflies and dragonflies) – Northwest winds following a front. Photograph by Pierce Rafferty \nThough the osprey is the most often sighted hawk on our list\,\nwe will look for resident and migratory raptors including:\nTurkey Vulture\nBald Eagle\nGolden Eagle\nNorthern Harrier\nNorthern Goshawk\nCooper’s Hawk\nSharp-shinned Hawk\nBroad-winged Hawk\nRed-tailed Hawk\nRough-legged Hawk\nPeregrine Falcon\nMerlin\nAmerican Kestrel \nIn addition to hawks\, we will keep an eye out for migratory songbirds and all aspects of nature on this morning exploration\, including late-blooming wildflowers\, butterflies\, mushrooms\, and early fall foliage and fruits. \nFor more information on recent sightings at Race Point or if you are curious about bird observations anywhere on the island\, please visit the eBird.org platform. \nebird.org\n\n\n		\n		\n			\n				\n			\n				\n				A successful hunt Photograph by Todd McCormack\n				\n			\n				\n			\n				\n				Osprey winging-it Photograph by Mary P Murphy\n				\n			\n				\n			\n				\n				Juvenile Bald Eagle (Haliaeetus leucocephalus) flying over Fishers Island\, January 20\, 2021 Photgraph by John Spofford\n				\n			\n				\n			\n				\n				Northern Harrier (Circus cyaneus)\, flying over 8th fairway\, Fishers Island Club Photograph by Todd McCormack\n				\n			\n				\n			\n				\n				Juvenile Red-tailed Hawk Photograph by Dickie Riegel\n				\n			\n				\n			\n				\n				Red-tailed Hawk on the Hay Harbor Club Golf Course Photograph by Todd McCormack\n				\n			\n				\n			\n				\n				Red-tailed Hawk in pine tree Photograph by Justine Kibbe\n				\n			\n				\n			\n				\n				Peregrine Falcon (Falco peregrinus) Photograph by Justine Kibbe
URL:https://fergusonmuseum.org/event/hawk-bird-watch-with-maggie-jones-2/
CATEGORIES:Bird Watch
ATTACH;FMTTYPE=image/jpeg:https://fergusonmuseum.org/wp-content/uploads/2021/09/HLFM-Hawk-Watch-2020_3479.jpg
END:VEVENT
BEGIN:VEVENT
DTSTART;TZID=America/New_York:20211002T083000
DTEND;TZID=America/New_York:20211002T100000
DTSTAMP:20260419T210823
CREATED:20210901T135752Z
LAST-MODIFIED:20210924T230259Z
UID:23816-1633163400-1633168800@fergusonmuseum.org
SUMMARY:Hawk Bird Watch with Maggie Jones
DESCRIPTION:H.L. Ferguson Museum invites you to a\nHAWK WATCH\nwith birder and naturalist Maggie Jones\nSaturday\, October 2nd\, 2021\nTime: 8:30 a.m.\nLocation: Museum Parking Lot\nWe will carpool from the museum to the Airport\, where Maggie will lead our guided walk around 8:45 am. \nPlease dress for the weather and don’t forget your binoculars! Length of walk is one hour to one hour and half. Participant numbers are limited so please RSVP by emailing Pierce Rafferty at fimuseum@fishersisland.net\, or by calling the Museum: (631) 788-7239. Your RSVP will be confirmed by Pierce. Please remember to social distance and masks are suggested.\n \nA Penni Sharp Nature Walk is sponsored each year in loving memory of Penelope “Penni” Sharp\, birder\, botanist & HLFM president from 2003 until 2014. \nIn 2020 a group of 15 masked and distanced bird watchers got a perfect day for migrating hawks and songbirds (and a few Monarch butterflies and dragonflies) – Northwest winds following a front. Photograph by Pierce Rafferty \nThough the osprey is the most often sighted hawk on our list\,\nwe will look for resident and migratory raptors including:\nTurkey Vulture\nBald Eagle\nGolden Eagle\nNorthern Harrier\nNorthern Goshawk\nCooper’s Hawk\nSharp-shinned Hawk\nBroad-winged Hawk\nRed-tailed Hawk\nRough-legged Hawk\nPeregrine Falcon\nMerlin\nAmerican Kestrel \nIn addition to hawks\, we will keep an eye out for migratory songbirds and all aspects of nature on this morning exploration\, including late-blooming wildflowers\, butterflies\, mushrooms\, and early fall foliage and fruits. \nFor more information on recent sightings at Race Point or if you are curious about bird observations anywhere on the island\, please visit the eBird.org platform. \nebird.org\n\n\n		\n		\n			\n				\n			\n				\n				A successful hunt Photograph by Todd McCormack\n				\n			\n				\n			\n				\n				Osprey winging-it Photograph by Mary P Murphy\n				\n			\n				\n			\n				\n				Juvenile Bald Eagle (Haliaeetus leucocephalus) flying over Fishers Island\, January 20\, 2021 Photgraph by John Spofford\n				\n			\n				\n			\n				\n				Northern Harrier (Circus cyaneus)\, flying over 8th fairway\, Fishers Island Club Photograph by Todd McCormack\n				\n			\n				\n			\n				\n				Juvenile Red-tailed Hawk Photograph by Dickie Riegel\n				\n			\n				\n			\n				\n				Red-tailed Hawk on the Hay Harbor Club Golf Course Photograph by Todd McCormack\n				\n			\n				\n			\n				\n				Red-tailed Hawk in pine tree Photograph by Justine Kibbe\n				\n			\n				\n			\n				\n				Peregrine Falcon (Falco peregrinus) Photograph by Justine Kibbe
URL:https://fergusonmuseum.org/event/hawk-bird-watch-with-maggie-jones/
CATEGORIES:Bird Watch
ATTACH;FMTTYPE=image/jpeg:https://fergusonmuseum.org/wp-content/uploads/2021/09/HLFM-Hawk-watch-2020.jpg
END:VEVENT
END:VCALENDAR